Workbook

Sheet Прил.1 Доходы бюджета
A1: Приложение 1
A2: к решению Муниципального Совета
A3: Каменниковского сельского поселения
A4: от 25.01.2018 г. № 54
A6: Доходы бюджета Каменниковского сельского поселения в соответствии с классификацией доходов бюджетов Российской Федерации на 2018 год
C8: руб.
A9: Код бюджетной классификации РФ | B9: Наименование доходов | C9: 2018 год
A11: 1 | B11: 2 | C11: 3
A12: 000 1 00 00000 00 0000 000 | B12: Налоговые и неналоговые доходы | C12: =C13+C24+C26+C31+C33+C15 -> 4692380.5
A13: 182 1 01 00000 00 0000 000 | B13: Налоги на прибыль, доходы | C13: =C14 -> 310000
A14: 182 1 01 02010 01 1000 110 | B14: Налог на доходы физических лиц с доходов, источником которых является налоговый агент, за исключением доходов, в отношении которых исчисление и уплата налога осуществляются в соответствии со статьями 227, 227-1 и 228 Налогового кодекса Российской Федерации | C14: 310000
A15: 100 1 03 00000 00 0000 000 | B15: Налоги на товары (работы, услуги) реализуемые на территории РФ | C15: =SUM(C16:C23) -> 640380.46
A16: 100 1 03 02 230 01 0000 110 | B16: Доходы от уплаты акцизов на дизельное топливо, зачисляемые в консолидированные бюджеты субъектов Российской Федерации | C16: 237130.23
A17: 100 1 03 02230 01 0000 110 | B17: Доходы от уплаты акцизов на дизельное топливо, зачисляемые в консолидированные бюджеты субъектов Российской Федерации
A18: 100 1 03 02240 01 0000 110 | B18: Доходы от уплаты акцизов на моторные масла для дизельных и (или) карбюраторных (инжекторных) двигателей, зачисляемые в консолидированные бюджеты субъектов Российской Федерации
A19: 100 1 03 02250 01 0000 110 | B19: Доходы от уплаты акцизов на автомобильный бензин, производимый на территории Российской Федерации, зачисляемые в консолидированные бюджеты субъектов Российской Федерации
A20: 100 1 03 02260 01 0000 110 | B20: Доходы от уплаты акцизов на прямогонный бензин, производимый на территории Российской Федерации, зачисляемые в консолидированные бюджеты субъектов Российской Федерации
A21: 100 1 03 02 240 01 0000 110 | B21: Доходы от уплаты акцизов на моторные масла для дизельных и (или) карбюраторных (инжекторных) двигателей, зачисляемые в консолидированные бюджеты субъектов Российской Федерации | C21: 2218.4
A22: 100 1 03 02 250 01 0000 110 | B22: Доходы от уплаты акцизов на автомобильный бензин, производимый на территории Российской Федерации, зачисляемые в консолидированные бюджеты субъектов Российской Федерации | C22: 441215.07
A23: 100 1 03 02 260 01 0000 110 | B23: Доходы от уплаты акцизов на прямогонный бензин, производимый на территории Российской Федерации, зачисляемые в консолидированные бюджеты субъектов Российской Федерации | C23: -40183.24
A24: 182 1 05 00000 00 0000 000 | B24: Налоги на совокупный доход | C24: =C25 -> 5000
A25: 182 1 05 03010 01 1000 110 | B25: Единый сельскохозяйственный налог | C25: 5000
A26: 182 1 06 00000 00 0000 000 | B26: Налоги на имущество | C26: =C27+C28 -> 3307000
A27: 182 1 06 01030 10 1000 110 | B27: Налог на имущество физических лиц, взимаемый по ставкам, применяемым к объектам налогообложения, расположенным в границах сельских поселений | C27: 650000
A28: 182 1 06 06000 00 0000 110 | B28: Земельный налог | C28: =C29+C30 -> 2657000
A29: 182 1 06 06033 10 1000 110 | B29: Земельный налог с организаций, обладающих земельным участком, расположенным в границах сельских поселений (сумма платежа) | C29: 1807000
A30: 182 1 06 06043 10 1000 110 | B30: Земельный налог с физических лиц, обладающих земельным участком, расположенным в границах сельских поселений (сумма платежа) | C30: 850000
A31: 000 1 08 00000 00 0000 000 | B31: Государственная пошлина | C31: =C32 -> 30000
A32: 240 1 08 04020 01 1000 110 | B32: Государственная пошлина за совершение нотариальных действий должностными лицами органов местного самоуправления, уполномоченными в соответствии с законодательными актами Российской Федерации на совершение нотариальных действий (сумма платежа (перерасчеты, недоимка и задолженность по соответствующему платежу, в том числе по отмененному) | C32: 30000
A33: 000 1 11 00000 00 0000 000 | B33: Доходы от использования имущества, находящегося в государственной и муниципальной собственности | C33: =C34 -> 400000
A34: 240 1 11 09045 10 0000 120 | B34: Прочие поступления от использования имущества, находящегося в собственности сельских поселений (за исключением имущества муниципальных бюджетных и автономных учреждений, а также имущества муниципальных унитарных предприятий, в том числе казенных | C34: 400000
A35: 000 2 00 00000 00 0000 000 | B35: Безвозмездные поступления | C35: =C36 -> 8100449
A36: 000 2 02 00000 00 0000 000 | B36: Безвозмездные поступления от других бюджетов бюджетной системы Российской Федерации | C36: =SUM(C37:C40) -> 8100449
A37: 130 2 02 15001 10 0000 151 | B37: Дотации бюджетам поселений на выравнивание бюджетной обеспеченности | C37: 6102000
A38: 240 2 02 35118 10 0000 151 | B38: Субвенции бюджетам сельских поселений на осуществление первичного воинского учета на территориях, где отсутствуют военные комиссариаты | C38: 194659
A39: 240 2 02 40014 10 0000 151 | B39: Межбюджетные трансферты, передаваемые бюджетам сельских поселений из бюджетов муниципальных районов на осуществление части полномочий по решению вопросов местного значения в соответствии с заключенными соглашениями | C39: 251000
A40: 240 2 02 20041 10 0000 151 | B40: Субсидии бюджетам сельских поселений на строительство, модернизацию, ремонт и содержание автомобильных дорог общего пользования, в том числе дорог в поселениях (за исключением автомобильных дорог федерального значения) | C40: 1552790
A41: ВСЕГО: | C41: =C12+C35 -> 12792829

Sheet Прил.2 Расходы бюджета
A1: Приложение 2
A2: к решению Муниципального Совета
A3: Каменниковского сельского поселения
A4: от 25.01.2018 г. № 54
A7: Расходы бюджета Каменниковского сельского поселения по разделам и подразделам функциональной классификации расходов бюджетов Российской Федерации на 2018 год
C8: руб.
A9: Р ПР | B9: Наименование | C9: 2018 год
A10: 01 00 | B10: Общегосударственные вопросы | C10: =C11+C13+C14+C16+C15+C12 -> 4517873
A11: 01 02 | B11: Функционирование высшего должностного лица субъекта Российской Федерации и местного самоуправления | C11: 853000
A12: 01 03 | B12: Функционирование законодательных (представительных) органов государственной власти и представительных органов муниципальных образований | C12: 66000
A13: 01 04 | B13: Функционирование Правительства Российской Федерации, высших органов исполнительной власти субъектов Российской Федерации, местных администраций | C13: 2815933
A14: 01 06 | B14: Обеспечение деятельности финансовых органов и органов финансового (финансово-бюджетного ) надзора | C14: 121940
A15: 01 11 | B15: Резервные фонды | C15: 20000
A16: 01 13 | B16: Другие общегосударственные вопросы | C16: 641000
A17: 02 00 | B17: Национальная оборона | C17: =C18 -> 194659
A18: 02 03 | B18: Мобилизационная и вневойсковая подготовка | C18: 194659
A19: 03 00 | B19: Национальная безопасность и правоохранительная деятельность | C19: =C20 -> 120000
A20: 03 09 | B20: Предупреждение и ликвидация последствий чрезвычайных ситуаций природного и техногенного характера, гражданская оборона и правоохранительная деятельность | C20: 120000
A21: 04 00 | B21: Национальная экономика | C21: =C22+C23 -> 2620080
A22: 04 09 | B22: Дорожное хозяйство | C22: 2595080
A23: 04 12 | B23: Другие вопросы в области национальной экономики | C23: 25000
A24: 05 00 | B24: Жилищно-коммунальное хозяйство | C24: =C25+C26+C27+C28 -> 5047407.4
A25: 05 01 | B25: Жилищное хозяйство | C25: 482000
A26: 05 02 | B26: Коммунальное хозяйство | C26: 25000
A27: 05 03 | B27: Благоустройство | C27: 3413280.4
A28: 05 05 | B28: Другие вопросы в области жилищно-коммунального хозяйства | C28: 1127127
A29: 07 00 | B29: Образование | C29: =C30 -> 100000
A30: 07 07 | B30: Молодежная политика и оздоровление детей | C30: 100000
A31: 08 00 | B31: Культура, кинематография | C31: =C32 -> 340000
A32: 08 01 | B32: Культура | C32: 340000
A33: 10 00 | B33: Социальная политика | C33: =C34 -> 206000
A34: 10 03 | B34: Социальное обеспечение населения | C34: 206000
A35: 11 00 | B35: Физическая культура и спорт | C35: =C36 -> 170000
A36: 11 02 | B36: Массовый спорт | C36: 170000
A37: Всего | C37: =C10+C17+C19+C21+C24+C29+C31+C35+C33 -> 13316019

Sheet Прил. 3 Расходы бюджета
A1: Приложение 3
A2: к решению Муниципального Совета
A3: Каменниковского сельского поселения
D4: от 25.01.2018 г. № 54
A7: Распределение расходов бюджета Каменниковского сельского поселения по разделам, подразделам, целевым статьям, видам расходов функциональной классификации на 2018 год
F8: руб.
A9: Наименование | B9: Раздел | C9: ПР | D9: КЦСР | E9: КВР | F9: 2018 год
A10: 1 | B10: 2 | C10: 3 | D10: 4 | E10: 5 | F10: 6
A11: Общегосударственные вопросы | B11: 01 | F11: =F14+F21+F32+F37+F41+F18 -> 4517873
A12: Непрограмные расходы органов местного самоуправления | D12: 50 0 00 00000 | F12: =F13+F38 -> 3876873
A13: Обеспечение функционирования органов местного самоуправления | D13: 50 1 00 00000 | F13: =F15+F19+F22+F30+F33+F35 -> 3856873
A14: Функционирование высшего должностного лица субъекта РФ и органа местного самоуправления | C14: 02 | F14: =F15 -> 853000
A15: Обеспечение функционирования главы муниципального образования | D15: 50 1 00 20540 | F15: =F16+F17 -> 853000
A16: Фонд оплаты труда государственных (муниципальных) органов | E16: 121 | F16: 655000
A17: Взнос по обязательному социальному страхованию на выплаты денежного содержания и иные выплаты работникам государственных (муниципальных) органов | E17: 129 | F17: 198000
A18: Функционирование законодательных (представительных) органов государственной власти и представительных органов муниципальных образований | C18: 03 | F18: =F19 -> 66000
A19: Обеспечение функционирования председателя представительного органа муниципального образования | D19: 50 1 00 20560 | F19: =F20 -> 66000
A20: Прочая закупка товаров, работ и услуг | E20: 244 | F20: 66000
A21: Функционирование Правительства РФ, высших органов исполнительной власти субъектов Российской Федерации, местных администраций | C21: 04 | F21: =F22+F30 -> 2815933
A22: Обеспечение функционирования центрального аппарата | D22: 50 1 00 20550 | F22: =F23+F24+F25+F26+F27+F28+F29 -> 2803933
A23: Фонд оплаты труда государственных (муниципальных) органов и взносы по обязательному социальному страхованию | E23: 121 | F23: 1850000
A24: Иные выплаты персоналу государственных (муниципальных) органов, за исключением фонда оплаты труда | E24: 122 | F24: 5000
A25: Взнос по обязательному социальному страхованию на выплаты денежного содержания и иные выплаты работникам государственных (муниципальных) органов | E25: 129 | F25: 560000
A26: Прочая закупка товаров, работ и услуг | E26: 244 | F26: 361933
A27: Уплата налога на имущество организаций и земельного налога | E27: 851 | F27: 15000
A28: Уплата прочих налогов, сборов и иных платежей | E28: 852 | F28: 10000
A29: Уплата иных платежей | E29: 853 | F29: 2000
A30: Межбюджетные трансферты бюджету района из бюджета поселения на размещение муниципального заказа | D30: 50 1 00 20510 | F30: =F31 -> 12000
A31: Иные межбюджетные трансферты | E31: 540 | F31: 12000
A32: Обеспечение деятельности финансовых органов и органов финансового (финансово-бюджетного ) надзора | C32: 06 | F32: =F33+F35 -> 121940
A33: Межбюджетные трансферты бюджету района из бюджета поселения на казначейское исполнение бюджета | D33: 50 1 00 20500 | F33: =F34 -> 84940
A34: Иные межбюджетные трансферты | E34: 540 | F34: 84940
A35: Межбюджетные трансферты бюджету района из бюджета поселения на осуществление внешнего муниципального финансового контроля | D35: 50 1 00 20520 | F35: =F36 -> 37000
A36: Иные межбюджетные трансферты | E36: 540 | F36: 37000
A37: Резервные фонды | C37: 11 | F37: =F39 -> 20000
A38: Непрограмные расходы органов местного самоуправления не предусмотренные иными целевыми статьями расходов бюджетов поселений, по соотвествующим направлениям расходов | D38: 50 2 00 00000 | F38: =F39 -> 20000
A39: Резервный фонд местной администрации | D39: 50 2 00 20540 | F39: =F40 -> 20000
A40: Резервные средства | E40: 870 | F40: 20000
A41: Другие общегосударственные вопросы | C41: 13 | F41: =F42+F49 -> 641000
A42: Муниципальная программа "Эффективная власть в Каменниковском сельском поселении" | D42: 17 0 00 00000 | F42: =F43 -> 521000
...

Sheet Прил.4 Ведомственная
A1: Приложение 4 | D1: Приложение 4
A2: к решению Муниципального Совета | D2: к проекту решения Муниципального Совета
A3: Каменниковского сельского поселения | D3: Каменниковского сельского поселения
A4: от 25.01.2018 г. № 54 | D4: от 22.12.2015 года № 12
A7: Ведомственная структура расходов бюджета Каменниковского сельского поселения на 2018 год
C8: руб.
A9: Код ГРБС | B9: Наименование главного распорядителя бюджетных средств | C9: 2018 год
A10: 240 | B10: Администрация Каменниковского сельского поселения | C10: ='Прил.2 Расходы бюджета'!C37-'Прил.2 Расходы бюджета'!C12 -> 13250019
A11: 241 | B11: Муниципальный Совет Каменниковского сельского поселения | C11: ='Прил.2 Расходы бюджета'!C12 -> 66000
A12: Итого: | C12: =C10+C11 -> 13316019

Sheet Прил.5 Источники
A1: Приложение 5 | D1: Приложение 4
A2: к решению Муниципального Совета | D2: к проекту решения Муниципального Совета
A3: Каменниковского сельского поселения | D3: Каменниковского сельского поселения
A4: от 25.01.2018 г. № 54 | D4: от 22.12.2015 года № 12
A8: Источники внутреннего финансирования дефицита бюджета Каменниковского сельского поселения на 2018 год
C10: руб.
A11: Наименование | B11: Код бюджетной классификации | C11: 2018 год
A12: 1 | B12: 2 | C12: 3
A13: Бюджетные кредиты от других бюджетов бюджетной системы Российской Федерации | B13: 240 01 03 00 00 00 0000 000 | C13: 2 000,000
A14: Получение кредитов от других бюджетов бюджетной системы Российской Федерации бюджетами поселений в валюте Российской Федерации (бюджетный кредит на финансирование целевых расходов) | B14: 240 01 03 01 00 10 4610 710 | C14: 2000
A15: Погашение бюджетами поселений кредитов от других бюджетов бюджетной системы Российской Федерации в валюте Российской Федерации (бюджетный кредит на финансирование целевых расходов) | B15: 240 01 03 01 00 10 4610 810 | C15: 0
A16: Изменение остатков средств на счетах по учету средств бюджета | B16: 240 01 05 00 00 00 0000 000 | C16: =C17-C18 -> -523189.89
A17: Увеличение прочих остатков денежных средств бюджетов сельских поселений | B17: 240 01 05 02 01 10 0000 510 | C17: ='Прил.1 Доходы бюджета'!C41 -> 12792829
A18: Уменьшение прочих остатков денежных средств бюджетов сельских поселений | B18: 240 01 05 02 01 10 0000 610 | C18: ='Прил.2 Расходы бюджета'!C37 -> 13316019
A19: ИТОГО источников внутреннего финансирования | C19: =C16 -> -523189.89

Sheet Прил.6 Программы
A1: Приложение 6 | D1: Приложение 4
A2: к решению Муниципального Совета | D2: к проекту решения Муниципального Совета
A3: Каменниковского сельского поселения | D3: Каменниковского сельского поселения
A4: от 25.01.2018 г. № 54 | D4: от 22.12.2015 года № 12
B7: Перечень муниципальных программ Каменниковского сельского поселения Рыбинского муниципального района
C9: руб.
A10: № п/п | B10: Наименование | C10: Сумма, планируемая на 2018 год
B11: Бюджетные кредиты от других бюджетов бюджетной системы Российской Федерации | C11: 2 000,000
B12: Получение кредитов от других бюджетов бюджетной системы Российской Федерации бюджетами поселений в валюте Российской Федерации (бюджетный кредит на финансирование целевых расходов) | C12: 2000
B13: Погашение бюджетами поселений кредитов от других бюджетов бюджетной системы Российской Федерации в валюте Российской Федерации (бюджетный кредит на финансирование целевых расходов) | C13: 0
A14: 1 | B14: ='Прил. 3 Расходы бюджета'!A42 -> Муниципальная программа "Эффективная власть в Каменниковском сельском поселении" | C14: ='Прил. 3 Расходы бюджета'!F42 -> 521000
A15: 2 | B15: ='Прил. 3 Расходы бюджета'!A62 -> Муниципальная программа "Защита населения и территории Каменниковского сельского поселения Рыбинского муниципального района от чрезвычайных ситуаций, обеспечение пожарной безопасности и безопасности людей на водных объектах" | C15: ='Прил. 3 Расходы бюджета'!F62 -> 120000
A16: 3 | B16: ='Прил. 3 Расходы бюджета'!A70 -> Муниципальная программа "Развитие дорожного хозяйства в Каменниковском сельском поселении Рыбинского муниципального района" | C16: ='Прил. 3 Расходы бюджета'!F70 -> 2595080
B17: ='Прил. 3 Расходы бюджета'!A79 -> Муниципальная программа "Развитие градостроительной деятельности в Каменниковском сельском поселении Рыбинского муниципального района" | C17: ='Прил. 3 Расходы бюджета'!F79 -> 25000
B18: ='Прил. 3 Расходы бюджета'!A85 -> Муниципальная программа "Обеспечение доступным и комфортным жильем населения Каменниковского сельского поселения Рыбинского муниципального района" | C18: ='Прил. 3 Расходы бюджета'!F85 -> 242000
A19: 4 | B19: Муниципальная программа "Управление муниципальным имуществом Каменниковского сельского поселения Рыбинского муниципального района" | C19: ='Прил. 3 Расходы бюджета'!F89+'Прил. 3 Расходы бюджета'!F115+'Прил. 3 Расходы бюджета'!F49 -> 915000
A20: 5 | B20: ='Прил. 3 Расходы бюджета'!A97 -> Муниципальная программа "Благоустройство Каменниковского сельского поселения Рыбинского муниципального района" | C20: ='Прил. 3 Расходы бюджета'!F97 -> 3413280.4
A21: 6 | B21: ='Прил. 3 Расходы бюджета'!A111 -> Муниципальная программа "Экономическое развитие в Каменниковском сельском поселении Рыбиснкого муниципального района" | C21: ='Прил. 3 Расходы бюджета'!F111 -> 520000
A22: 7 | B22: ='Прил. 3 Расходы бюджета'!A121 -> Муниципальная программа "Молодежная политика и оздоровление детей" | C22: ='Прил. 3 Расходы бюджета'!F121 -> 100000
A23: 8 | B23: ='Прил. 3 Расходы бюджета'!A127 -> Муниципальная программа "Развитие культуры и туризма в каменниковском сельском поселении рыбинского муниципального района" | C23: ='Прил. 3 Расходы бюджета'!F127 -> 340000
A24: 9 | B24: МЦП "Государственна поддержка молодых семей Каменниковского сельского поселения в приобретении (строительстве) жилья" | C24: ='Прил. 3 Расходы бюджета'!F133 -> 206000
A25: 10 | B25: ='Прил. 3 Расходы бюджета'!A139 -> Муниципальная программа "Развитие физической культуры и спорта в Каменниковском сельском поселении Рыбинского муниципального района" | C25: ='Прил. 3 Расходы бюджета'!F139 -> 170000
B26: Итого | C26: =SUM(C14:C25) -> 9167360.3

Sheet Приложение 7 МБТ из субъектов
A1: Приложение 7
A2: к решению Муниципального Совета
A3: Каменниковского сельского поселения
A4: от 25.01.2018 г. № 54
A6: Объем межбюджетных транфертов, получаемых из других бюджетов бюджетной системы Российской Федерации на 2018 год
A8: Код бюджетной классификации РФ | B8: Наименование доходов | C8: 2018 год
A10: 130 2 02 15001 10 0000 151 | B10: Дотации бюджетам поселений на выравнивание бюджетной обеспеченности | C10: 6102000
A11: 240 2 02 35118 10 0000 151 | B11: Субвенции бюджетам сельских поселений на осуществление первичного воинского учета на территориях, где отсутствуют военные комиссариаты | C11: 194659
A12: 240 2 02 40014 10 0000 151 | B12: Межбюджетные трансферты, передаваемые бюджетам сельских поселений из бюджетов муниципальных районов на осуществление части полномочий по решению вопросов местного значения в соответствии с заключенными соглашениями | C12: 251000
A13: 240 2 02 20041 10 0000 151 | B13: Субсидии бюджетам сельских поселений на строительство, модернизацию, ремонт и содержание автомобильных дорог общего пользования, в том числе дорог в поселениях (за исключением автомобильных дорог федерального значения) | C13: 1552790
A14: ВСЕГО: | C14: =C10+C11+C12+C13 -> 8100449

Sheet Приложение 8 МБТ
E1: Приложение 8
E2: к решению Муниципального Совета
E3: Каменниковского сельского поселения
E4: от 25.01.2018 г. № 54
F7: Межбюджетные трансферты бюджету Рыбинского муниципального района Ярославской области муниципального района на 2018 год
E9: Код ГРБС | F9: Наименование | G9: 2018 год (руб.)
B10: 3617300 | F10: 1. Межбюджетные трансферты, передаваемые бюджету муниципального района из бюджета поселения на осуществление части полномочий по решению вопросов местного значения в соответствии с заключенными соглашениями | G10: =G17 -> 311067
B11: 3617300 | C11: 30300 | D11: 540 | E11: 140 | F11: Управление ЖКХ, транспорта и связи АРМР | G11: 77127
B12: 3617300 | C12: 30400 | D12: 540 | E12: 130 | F12: Управление экономики и финансов АРМР | G12: 84940
B13: 3617300 | C13: 30500 | D13: 540 | E13: 120 | F13: Администрация РМР | G13: 12000
B14: 3617300 | C14: 30600 | D14: 540 | E14: 127 | F14: Управление по культуре, молодежи и спорту АРМР | G14: 100000
F15: городской округ г.Переславль-ЗалесскийРостовский муниципальный район Угличский муниципальный район Тутаевский муниципальный район Большесельский муниципальный район Борисоглебский муниципальный районБрейтовский муниципальный районГаврилов-Ямский муниципальный районДаниловский муниципальный районЛюбимский муниципальный районМышкинский муниципальный районНекоузский муниципальный районНекрасовский муниципальный районПервомайский муниципальный районПошехонский муниципальный районРыбинский муниципальный район Ростовский муниципальный район Угличский муниципальный район Тутаевский муниципальный район Большесельский муниципальный район Борисоглебский муниципальный районБрейтовский муниципальный районГаврилов-Ямский муниципальный районДаниловский муниципальный районЛюбимский муниципальный районМышкинский муниципальный районНекоузский муниципальный районНекрасовский муниципальный районПервомайский муниципальный районПереславский муниципальный районПошехонский муниципальный районНеуказанный территориальный признак | G15: 709750000
E16: 195 | F16: Контрольно счетная палата РМР | G16: 37000
F17: Итого | G17: =G11+G12+G13+G14+G16 -> 311067
