Workbook
Name _GoBack: 'прил.2 Перечень адм.дох.'!#REF!

Sheet Прил.1 Нормативы зачислений
A1: Приложение 1
A2: к решению Муниципального Совета
A3: Каменниковского сельского поселения
A4: от 22.12.2020 г. № 8
A6: Нормативы зачисления налоговых и неналоговых доходов в бюджет Каменниковского сельского поселения на 2021 год
A7: Наименование | B7: Коды бюджетной классификации Российской Федерации | C7: Норматив зачисления
C8: %
A9: Прочие доходы от компенсации затрат бюджетов сельских поселений | B9: 240 1 13 02995 10 0000 130 | C9: 100
A10: Возмещение ущерба при возникновении страховых случаев, когда выгодоприобретателями выступают получатели средств бюджета сельского поселения | B10: 240 1 16 10031 10 0000 140 | C10: 100
A11: Невыясненные поступления, зачисляемые в бюджеты сельских поселений | B11: 240 1 17 01050 10 0000 180 | C11: 100
A12: Прочие неналоговые доходы бюджетов сельских поселений | B12: 240 117 05050 10 0000 180 | C12: 100

Sheet прил.2 Перечень адм.дох.
C1: Приложение 2
C2: к решению Муниципального Совета
C3: Каменниковского сельского поселения
A4: от 22.12.2020 г. № 8
A7: Перечень администраторов доходов бюджета Каменниковского сельского поселения на 2021 год
A9: № п/п | B9: Коды бюджетной классификации | C9: Наименование доходов
A10: 240 - Администрация Каменниковского сельского поселения Рыбинского муниципального района
A11: 240 | B11: 1 08 04020 01 0000 110 | C11: Государственная пошлина за совершение нотариальных действий должностными лицами органов местного самоуправления, уполномоченными в соответствии с законодательными актами Российской Федерации на совершение нотариальных действий
A12: 240 | B12: 1 11 05035 10 0000 120 | C12: Доходы от сдачи в аренду имущества, находящегося в оперативном управлении органов управления сельских поселений и созданных ими учреждений (за исключением имущества муниципальных бюджетных и автономных учреждений)
A13: 240 | B13: 1 11 07015 10 0000 120 | C13: Доходы от перечисления части прибыли, остающейся после уплаты налогов и иных обязательных платежей муниципальных унитарных предприятий, созданных сельскими поселениями
A14: 240 | B14: 1 11 09045 10 0000 120 | C14: Прочие поступления от использования имущества, находящегося в собственности сельских поселений (за исключением имущества муниципальных бюджетных и автономных учреждений, а также имущества муниципальных унитарных предприятий, в том числе казенных)
A15: 240 | B15: 1 13 02995 10 0000 130 | C15: Прочие доходы от компенсации затрат бюджетов сельских поселений
A16: 240 | B16: 1 14 02053 10 0000 410 | C16: Доходы от реализации иного имущества, находящегося в собственности сельских поселений (за исключением имущества муниципальных бюджетных и автономных учреждений, а также имущества муниципальных унитарных предприятий, в том числе казенных), в части реализации основных средств по указанному имуществу
A17: 240 | B17: 1 14 02053 10 0000 440 | C17: Доходы от реализации иного имущества, находящегося в собственности сельских поселений (за исключением имущества муниципальных бюджетных и автономных учреждений, а также имущества муниципальных унитарных предприятий, в том числе казенных), в части реализации материальных запасов по указанному имуществу
A18: 240 | B18: 1 16 10031 10 0000 140 | C18: Возмещение ущерба при возникновении страховых случаев, когда выгодоприобретателями выступают получатели средств бюджета сельского поселения
A19: 240 | B19: 1 17 01050 10 0000 180 | C19: Невыясненные поступления, зачисляемые в бюджеты сельских поселений
A20: 240 | B20: 1 17 05050 10 0000 180 | C20: Прочие неналоговые доходы бюджетов сельских поселений
A21: 240 | B21: 2 02 15001 10 0000 150 | C21: Дотации бюджетам сельских поселений на выравнивание бюджетной обеспеченности
A22: 240 | B22: 2 02 20041 10 0000 150 | C22: Субсидии бюджетам сельских поселений на строительство, модернизацию, ремонт и содержание автомобильных дорог общего пользования, в том числе дорог в поселениях (за исключением автомобильных дорог федерального значения)
... A39: 240 | B39: 2 19 60010 10 0000 150 | C39: Возврат прочих остатков субсидий, субвенций и иных межбюджетных трансфертов, имеющих целевое назначение, прошлых лет из бюджетов сельских поселений

Sheet Прил.3 Перечень гл.адм. источ.
C1: Приложение 3
C2: к решению Муниципального Совета
C3: Каменниковского сельского поселения
A4: от 22.12.2020 г. № 8
A6: Перечень Главных администраторов источников финансирования дефицита бюджета Каменниковского сельского поселения на 2021 год
A8: Код администратора | B8: Код группы, подгруппы, статьи и вида источников | C8: Наименование
A9: 1 | B9: 2 | C9: 3
A10: 240 | B10: 01 05 02 01 10 0000 510 | C10: Увеличение прочих остатков средств бюджета поселения
A11: 240 | B11: 01 05 02 01 10 0000 610 | C11: Уменьшение прочих остатков средств бюджета поселения

Sheet Прил.4 Доходы бюджета
A1: Приложение 4
A2: к решению Муниципального Совета
A3: Каменниковского сельского поселения
A4: от 22.12.2020 г. № 8
A6: Доходы бюджета Каменниковского сельского поселения в соответствии с классификацией доходов бюджетов Российской Федерации на 2021 год
C8: руб.
A9: Код бюджетной классификации РФ | B9: Наименование доходов | C9: 2021 год
A11: 1 | B11: 2 | C11: 3
A12: 000 1 00 00000 00 0000 000 | B12: Налоговые и неналоговые доходы | C12: =C13+C24+C29+C31+C15 -> 5410000
A13: 182 1 01 00000 00 0000 000 | B13: Налоги на прибыль, доходы | C13: =C14 -> 300000
A14: 182 1 01 02010 01 1000 110 | B14: Налог на доходы физических лиц с доходов, источником которых является налоговый агент, за исключением доходов, в отношении которых исчисление и уплата налога осуществляются в соответствии со статьями 227, 227-1 и 228 Налогового кодекса Российской Федерации | C14: 300000
A15: 100 1 03 00000 00 0000 000 | B15: Налоги на товары (работы, услуги) реализуемые на территории РФ | C15: =SUM(C16:C23) -> 893000
A16: 100 1 03 02 23101 0000 110 | B16: Доходы от уплаты акцизов на дизельное топливо, зачисляемые в консолидированные бюджеты субъектов Российской Федерации | C16: 408000
A17: 100 1 03 02230 01 0000 110 | B17: Доходы от уплаты акцизов на дизельное топливо, зачисляемые в консолидированные бюджеты субъектов Российской Федерации
A18: 100 1 03 02240 01 0000 110 | B18: Доходы от уплаты акцизов на моторные масла для дизельных и (или) карбюраторных (инжекторных) двигателей, зачисляемые в консолидированные бюджеты субъектов Российской Федерации
A19: 100 1 03 02250 01 0000 110 | B19: Доходы от уплаты акцизов на автомобильный бензин, производимый на территории Российской Федерации, зачисляемые в консолидированные бюджеты субъектов Российской Федерации
A20: 100 1 03 02260 01 0000 110 | B20: Доходы от уплаты акцизов на прямогонный бензин, производимый на территории Российской Федерации, зачисляемые в консолидированные бюджеты субъектов Российской Федерации
A21: 100 1 03 02 24101 0000 110 | B21: Доходы от уплаты акцизов на моторные масла для дизельных и (или) карбюраторных (инжекторных) двигателей, зачисляемые в консолидированные бюджеты субъектов Российской Федерации | C21: 2000
A22: 100 1 03 02 25101 0000 110 | B22: Доходы от уплаты акцизов на автомобильный бензин, производимый на территории Российской Федерации, зачисляемые в консолидированные бюджеты субъектов Российской Федерации | C22: 535000
A23: 100 1 03 02 26101 0000 110 | B23: Доходы от уплаты акцизов на прямогонный бензин, производимый на территории Российской Федерации, зачисляемые в консолидированные бюджеты субъектов Российской Федерации | C23: -52000
A24: 182 1 06 00000 00 0000 000 | B24: Налоги на имущество | C24: =C25+C26 -> 3607000
A25: 182 1 06 01030 10 1000 110 | B25: Налог на имущество физических лиц, взимаемый по ставкам, применяемым к объектам налогообложения, расположенным в границах сельских поселений | C25: 1077000
A26: 182 1 06 06000 00 0000 110 | B26: Земельный налог | C26: =C27+C28 -> 2530000
A27: 182 1 06 06033 10 1000 110 | B27: Земельный налог с организаций, обладающих земельным участком, расположенным в границах сельских поселений (сумма платежа) | C27: 1730000
A28: 182 1 06 06043 10 1000 110 | B28: Земельный налог с физических лиц, обладающих земельным участком, расположенным в границах сельских поселений (сумма платежа) | C28: 800000
A29: 240 1 08 00000 00 0000 000 | B29: Государственная пошлина | C29: =C30 -> 10000
A30: 240 1 08 04020 01 0000 110 | B30: Государственная пошлина за совершение нотариальных действий должностными лицами органов местного самоуправления, уполномоченными в соответствии с законодательными актами Российской Федерации на совершение нотариальных действий | C30: 10000
A31: 240 1 11 00000 00 0000 000 | B31: Доходы от использования имущества, находящегося в государственной и муниципальной собственности | C31: =C32 -> 600000
A32: 240 1 11 09045 10 0000 120 | B32: Прочие поступления от использования имущества, находящегося в собственности сельских поселений (за исключением имущества муниципальных бюджетных и автономных учреждений, а также имущества муниципальных унитарных предприятий, в том числе казенных | C32: 600000
A33: 000 2 00 00000 00 0000 000 | B33: Безвозмездные поступления | C33: =C34 -> 7271636
A34: 240 2 02 00000 00 0000 000 | B34: Безвозмездные поступления от других бюджетов бюджетной системы Российской Федерации | C34: =SUM(C35:C37) -> 7271636
A35: 240 2 02 15001 10 0000 150 | B35: Дотации бюджетам поселений на выравнивание бюджетной обеспеченности | C35: =6711000+22000 -> 6733000
A36: 240 2 02 35118 10 0000 150 | B36: Субвенции бюджетам сельских поселений на осуществление первичного воинского учета на территориях, где отсутствуют военные комиссариаты | C36: 238636
A37: 240 2 02 40014 10 0000 150 | B37: Межбюджетные трансферты, передаваемые бюджетам сельских поселений из бюджетов муниципальных районов на осуществление части полномочий по решению вопросов местного значения в соответствии с заключенными соглашениями | C37: 300000
A38: ВСЕГО: | C38: =C12+C33 -> 12681636

Sheet Прил.5 Расходы бюджета
C1: Приложение 5
C2: к решению Муниципального Совета
C3: Каменниковского сельского поселения
A4: от 22.12.2020 г. № 8
A7: Расходы бюджета Каменниковского сельского поселения по разделам и подразделам функциональной классификации расходов бюджетов Российской Федерации на 2021 год
C8: руб.
A9: Р ПР | B9: Наименование | C9: 2021 год
A10: 01 00 | B10: Общегосударственные вопросы | C10: =SUM(C11:C16) -> 5437455.5
A11: 01 02 | B11: Функционирование высшего должностного лица субъекта Российской Федерации и местного самоуправления | C11: 872340
A12: 01 03 | B12: Функционирование законодательных (представительных) органов государственной власти и представительных органов муниципальных образований | C12: 66000
A13: 01 04 | B13: Функционирование Правительства Российской Федерации, высших органов исполнительной власти субъектов Российской Федерации, местных администраций | C13: =3334435.53-3000 -> 3331435.5
A14: 01 06 | B14: Обеспечение деятельности финансовых органов и органов финансового (финансово-бюджетного ) надзора | C14: 127680
A15: 01 11 | B15: Резервные фонды | C15: 20000
A16: 01 13 | B16: Другие общегосударственные вопросы | C16: 1020000
A17: 02 00 | B17: Национальная оборона | C17: =C18 -> 238636
A18: 02 03 | B18: Мобилизационная и вневойсковая подготовка | C18: 238636
A19: 03 00 | B19: Национальная безопасность и правоохранительная деятельность | C19: =C20 -> 210000
A20: 03 10 | B20: Защита населения и территории от чрезвычайных ситуаций природного и техногенного характера, пожарная безопасность | C20: 210000
A21: 04 00 | B21: Национальная экономика | C21: =C22 -> 1193000
A22: 04 09 | B22: Дорожное хозяйство | C22: =893000+300000 -> 1193000
A23: 05 00 | B23: Жилищно-коммунальное хозяйство | C23: =C24+C25+C26+C27 -> 4714077.5
A24: 05 01 | B24: Жилищное хозяйство | C24: 411000
A25: 05 02 | B25: Коммунальное хозяйство | C25: 6000
A26: 05 03 | B26: Благоустройство | C26: =3307000+494533 -> 3801533
A27: 05 05 | B27: Другие вопросы в области жилищно-коммунального хозяйства | C27: 495544.47
A28: 07 00 | B28: Образование | C28: =C30+C29 -> 140000
A29: 07 05 | B29: Профессиональная подготовка, переподготовка и повышение квалификации | C29: 20000
A30: 07 07 | B30: Молодежная политика и оздоровление детей | C30: 120000
A31: 08 00 | B31: Культура, кинематография | C31: =C32 -> 330000
A32: 08 01 | B32: Культура | C32: 330000
A33: 10 00 | B33: Социальная политика | C33: =C35+C34 -> 318467
A34: 10 01 | B34: Пенсионное обеспечение | C34: 66000
A35: 10 03 | B35: Социальное обеспечение населения | C35: 252467
A36: 11 00 | B36: Физическая культура и спорт | C36: =C37 -> 100000
A37: 11 02 | B37: Массовый спорт | C37: 100000
A38: Всего | C38: =C10+C17+C19+C21+C23+C28+C31+C36+C33 -> 12681636

Sheet Прил. 6 Расходы бюджета
A1: Приложение 6
C2: к решению Муниципального Совета
B3: Каменниковского сельского поселения
D4: от 22.12.2020 г. № 8
A7: Распределение расходов бюджета Каменниковского сельского поселения по разделам, подразделам, целевым статьям, видам расходов функциональной классификации на 2021 год
F8: руб.
A9: Наименование | B9: Раздел | C9: ПР | D9: КЦСР | E9: КВР | F9: 2021 год
A10: 1 | B10: 2 | C10: 3 | D10: 4 | E10: 5 | F10: 6
A11: Общегосударственные вопросы | B11: 01 | F11: =F14+F18+F21+F30+F35+F39 -> 5437455.5
A12: Непрограмные расходы органов местного самоуправления | D12: 50 0 00 00000 | F12: =F13+F36 -> 4417455.5
A13: Обеспечение функционирования органов местного самоуправления | D13: 50 1 00 00000 | F13: =F15+F19+F22+F31+F33 -> 4397455.5
A14: Функционирование высшего должностного лица субъекта РФ и органа местного самоуправления | C14: 02 | F14: =F15 -> 872340
A15: Обеспечение функционирования главы муниципального образования | D15: 50 1 00 20540 | F15: =F16+F17 -> 872340
A16: Фонд оплаты труда государственных (муниципальных) органов | E16: 121 | F16: 670000
A17: Взнос по обязательному социальному страхованию на выплаты денежного содержания и иные выплаты работникам государственных (муниципальных) органов | E17: 129 | F17: 202340
A18: Функционирование законодательных (представительных) органов государственной власти и представительных органов муниципальных образований | C18: 03 | F18: =F19 -> 66000
A19: Обеспечение функционирования депутатов представительного органа муниципального образования | D19: 50 1 00 20490 | F19: =F20 -> 66000
A20: Иные выплаты, за исключением фонда оплаты труда государственных (муниципальных) органов, лицам, привлекаемым согласно законодательству для выполнения отдельных полномочий | E20: 123 | F20: 66000
A21: Функционирование Правительства РФ, высших органов исполнительной власти субъектов Российской Федерации, местных администраций | C21: 04 | F21: =F22 -> 3331435.5
A22: Обеспечение функционирования центрального аппарата | D22: 50 1 00 20550 | F22: =F23+F24+F25+F26+F27+F28+F29 -> 3331435.5
A23: Фонд оплаты труда государственных (муниципальных) органов и взносы по обязательному социальному страхованию | E23: 121 | F23: 2450000
A24: Иные выплаты персоналу государственных (муниципальных) органов, за исключением фонда оплаты труда | E24: 122 | F24: 5000
A25: Взнос по обязательному социальному страхованию на выплаты денежного содержания и иные выплаты работникам государственных (муниципальных) органов | E25: 129 | F25: 740000
A26: Прочая закупка товаров, работ и услуг | E26: 244 | F26: =116435.53-3000+6000 -> 119435.53
A27: Уплата налога на имущество организаций и земельного налога | E27: 851 | F27: 5000
A28: Уплата прочих налогов, сборов и иных платежей | E28: 852 | F28: 10000
A29: Уплата иных платежей | E29: 853 | F29: 2000
A30: Обеспечение деятельности финансовых органов и органов финансового (финансово-бюджетного ) надзора | C30: 06 | F30: =F31+F33 -> 127680
A31: Межбюджетные трансферты бюджету района из бюджета поселения на казначейское исполнение бюджета | D31: 50 1 00 20500 | F31: =F32 -> 87680
A32: Иные межбюджетные трансферты | E32: 540 | F32: 87680
A33: Межбюджетные трансферты бюджету района из бюджета поселения на осуществление внешнего муниципального финансового контроля | D33: 50 1 00 20520 | F33: =F34 -> 40000
A34: Иные межбюджетные трансферты | E34: 540 | F34: 40000
A35: Резервные фонды | C35: 11 | F35: =F37 -> 20000
A36: Непрограмные расходы органов местного самоуправления не предусмотренные иными целевыми статьями расходов бюджетов поселений, по соотвествующим направлениям расходов | D36: 50 2 00 00000 | F36: =F37 -> 20000
A37: Резервный фонд местной администрации | D37: 50 2 00 20540 | F37: =F38 -> 20000
A38: Резервные средства | E38: 870 | F38: 20000
A39: Другие общегосударственные вопросы | C39: 13 | F39: =F40+F46 -> 1020000
A40: Муниципальная программа "Эффективная власть в Каменниковском сельском поселении" | D40: 17 0 00 00000 | F40: =F41 -> 750000
A41: Развитие муниципальной службы в Каменниковском сельском поселении | D41: 17 1 00 00000 | F41: =F42 -> 750000
A42: Развитие материально-технической базы | D42: 17 1 00 20060 | F42: =F43+F44+F45 -> 750000
...

Sheet Прил.7 Перечень гл. расп.
A1: Приложение 7 | D1: Приложение 4
A2: к решению Муниципального Совета | D2: к проекту решения Муниципального Совета
A3: Каменниковского сельского поселения | D3: Каменниковского сельского поселения
A4: от 22.12.2020 г. № 8 | D4: от 22.12.2015 года № 12
A7: ПЕРЕЧЕНЬ
A8: Главных распорядителей бюджетных средств бюджета Каменниковского сельского поселения на 2021 год
A10: Наименование | B10: Код ведомственной классификации
A11: Администрация Каменниковского сельского поселения | B11: 240
A12: Муниципальный Совет Каменниковского сельского поселения | B12: 241

Sheet Прил.8 Ведомственная
A1: Приложение 8 | D1: Приложение 4
A2: к решению Муниципального Совета | D2: к проекту решения Муниципального Совета
A3: Каменниковского сельского поселения | D3: Каменниковского сельского поселения
A4: от 22.12.2020 г. № 8 | D4: от 22.12.2015 года № 12
A7: Ведомственная структура расходов бюджета Каменниковского сельского поселения на 2021 год
C8: руб.
A9: Код ГРБС | B9: Наименование главного распорядителя бюджетных средств | C9: 2021 год
A10: 240 | B10: Администрация Каменниковского сельского поселения | C10: ='Прил.5 Расходы бюджета'!C38-'Прил.5 Расходы бюджета'!C12 -> 12615636
A11: 241 | B11: Муниципальный Совет Каменниковского сельского поселения | C11: ='Прил.5 Расходы бюджета'!C12 -> 66000
A12: Итого: | C12: =C10+C11 -> 12681636

Sheet Прил.9 Источники
A1: Приложение 9 | D1: Приложение 4
A2: к решению Муниципального Совета | D2: к проекту решения Муниципального Совета
A3: Каменниковского сельского поселения | D3: Каменниковского сельского поселения
A4: от 22.12.2020 г. № 8 | D4: от 22.12.2015 года № 12
A8: Источники внутреннего финансирования дефицита бюджета Каменниковского сельского поселения на 2021 год
C10: руб.
A11: Наименование | B11: Код бюджетной классификации | C11: 2021 год
A12: 1 | B12: 2 | C12: 3
A13: Бюджетные кредиты от других бюджетов бюджетной системы Российской Федерации | B13: 240 01 03 00 00 00 0000 000 | C13: 2 000,000
A14: Получение кредитов от других бюджетов бюджетной системы Российской Федерации бюджетами поселений в валюте Российской Федерации (бюджетный кредит на финансирование целевых расходов) | B14: 240 01 03 01 00 10 4610 710 | C14: 2000
A15: Погашение бюджетами поселений кредитов от других бюджетов бюджетной системы Российской Федерации в валюте Российской Федерации (бюджетный кредит на финансирование целевых расходов) | B15: 240 01 03 01 00 10 4610 810 | C15: 0
A16: Изменение остатков средств на счетах по учету средств бюджета | B16: 240 01 05 00 00 00 0000 000 | C16: =C17-C18 -> 0
A17: Увеличение прочих остатков денежных средств бюджетов сельских поселений | B17: 240 01 05 02 01 10 0000 510 | C17: ='Прил.4 Доходы бюджета'!C38 -> 12681636
A18: Уменьшение прочих остатков денежных средств бюджетов сельских поселений | B18: 240 01 05 02 01 10 0000 610 | C18: ='Прил.5 Расходы бюджета'!C38 -> 12681636
A19: ИТОГО источников внутреннего финансирования | C19: =C16 -> 0

Sheet Прил.10 Программы
A1: Приложение 10 | D1: Приложение 4
A2: к решению Муниципального Совета | D2: к проекту решения Муниципального Совета
A3: Каменниковского сельского поселения | D3: Каменниковского сельского поселения
A4: от 22.12.2020 г. № 8 | D4: от 22.12.2015 года № 12
B7: Перечень муниципальных программ Каменниковского сельского поселения Рыбинского муниципального района
C9: руб.
A10: № п/п | B10: Наименование | C10: Сумма, планируемая на 2021 год
B11: Бюджетные кредиты от других бюджетов бюджетной системы Российской Федерации | C11: 2 000,000
B12: Получение кредитов от других бюджетов бюджетной системы Российской Федерации бюджетами поселений в валюте Российской Федерации (бюджетный кредит на финансирование целевых расходов) | C12: 2000
B13: Погашение бюджетами поселений кредитов от других бюджетов бюджетной системы Российской Федерации в валюте Российской Федерации (бюджетный кредит на финансирование целевых расходов) | C13: 0
A14: 1 | B14: ='Прил. 6 Расходы бюджета'!A40 -> Муниципальная программа "Эффективная власть в Каменниковском сельском поселении" | C14: ='Прил. 6 Расходы бюджета'!F40+'Прил. 6 Расходы бюджета'!F111 -> 770000
A15: 2 | B15: ='Прил. 6 Расходы бюджета'!A59 -> Муниципальная программа "Защита населения и территории Каменниковского сельского поселения Рыбинского муниципального района от чрезвычайных ситуаций, обеспечение пожарной безопасности и безопасности людей на водных объектах" | C15: ='Прил. 6 Расходы бюджета'!F59 -> 210000
A16: 3 | B16: ='Прил. 6 Расходы бюджета'!A67 -> Муниципальная программа "Развитие дорожного хозяйства в Каменниковском сельском поселении Рыбинского муниципального района" | C16: ='Прил. 6 Расходы бюджета'!F67 -> 1193000
A17: 4 | B17: ='Прил. 6 Расходы бюджета'!A75 -> Муниципальная программа "Управление муниципальным имуществом Каменниковского сельского поселения Рыбинского муниципального района" | C17: ='Прил. 6 Расходы бюджета'!F75+'Прил. 6 Расходы бюджета'!F105+'Прил. 6 Расходы бюджета'!F46 -> 978000
A18: 5 | B18: ='Прил. 6 Расходы бюджета'!A89 -> Муниципальная программа "Благоустройство Каменниковского сельского поселения Рыбинского муниципального района" | C18: ='Прил. 6 Расходы бюджета'!F89 -> 3801533
A19: 6 | B19: ='Прил. 6 Расходы бюджета'!A133 -> Муниципальная программа "Обеспечение доступным и комфортным жильем населения Каменниковского сельского поселения" | C19: ='Прил. 6 Расходы бюджета'!F136+'Прил. 6 Расходы бюджета'!F79 -> 378467
A20: 7 | B20: ='Прил. 6 Расходы бюджета'!A116 -> Муниципальная программа "Молодежная политика в Каменниковском сельском поселении" | C20: ='Прил. 6 Расходы бюджета'!F116 -> 120000
A21: 8 | B21: ='Прил. 6 Расходы бюджета'!A122 -> Муниципальная программа "Развитие культуры и туризма в каменниковском сельском поселении рыбинского муниципального района" | C21: ='Прил. 6 Расходы бюджета'!F122 -> 330000
A22: 9 | B22: ='Прил. 6 Расходы бюджета'!A139 -> Муниципальная программа "Развитие физической культуры и спорта в Каменниковском сельском поселении Рыбинского муниципального района" | C22: ='Прил. 6 Расходы бюджета'!F139 -> 100000
A23: 10 | B23: ='Прил. 6 Расходы бюджета'!A128 -> Муниципальная программа "Социальная поддержка населения Каменниковского сельского поселения Рыбинского муниципального района " | C23: ='Прил. 6 Расходы бюджета'!F128 -> 66000
B24: Итого | C24: =SUM(C14:F23) -> 7947000

Sheet Приложение 11 МБТ из субъектов
A1: Приложение 11
A2: к решению Муниципального Совета
A3: Каменниковского сельского поселения
A4: от 22.12.2020 г. № 8
A6: Объем межбюджетных транфертов, получаемых из других бюджетов бюджетной системы Российской Федерации на 2021 год
A8: Код бюджетной классификации РФ | B8: Наименование доходов | C8: 2021 год
A10: 240 2 02 15001 10 0000 150 | B10: Дотации бюджетам поселений на выравнивание бюджетной обеспеченности | C10: 6733000
A11: 240 2 02 35118 10 0000 150 | B11: Субвенции бюджетам сельских поселений на осуществление первичного воинского учета на территориях, где отсутствуют военные комиссариаты | C11: 238636
A12: 240 2 02 40014 10 0000 150 | B12: Межбюджетные трансферты, передаваемые бюджетам сельских поселений из бюджетов муниципальных районов на осуществление части полномочий по решению вопросов местного значения в соответствии с заключенными соглашениями | C12: 300000
A13: Итого: | C13: =SUM(C10:C12) -> 7271636

Sheet Приложение 12 МБТ
E1: Приложение 12
E2: к решению Муниципального Совета
E3: Каменниковского сельского поселения
E4: от 22.12.2020 г. № 8
F7: Межбюджетные трансферты бюджету Рыбинского муниципального района Ярославской области муниципального района на 2021 год
E9: Код ГРБС | F9: Наименование | G9: 2021 год (руб.)
B10: 3617300 | F10: 1. Межбюджетные трансферты, передаваемые бюджету муниципального района из бюджета поселения на осуществление части полномочий по решению вопросов местного значения в соответствии с заключенными соглашениями | G10: =G16 -> 326224.47
B11: 3617300 | C11: 30300 | D11: 540 | E11: 140 | F11: Управление ЖКХ, транспорта и связи АРМР | G11: ='Прил. 6 Расходы бюджета'!F104 -> 78544.47
B12: 3617300 | C12: 30400 | D12: 540 | E12: 130 | F12: Управление экономики и финансов АРМР | G12: ='Прил. 6 Расходы бюджета'!F32 -> 87680
B13: 3617300 | C13: 30600 | D13: 540 | E13: 127 | F13: Управление по культуре, молодежи и спорту АРМР | G13: ='Прил. 6 Расходы бюджета'!F119 -> 120000
F14: городской округ г.Переславль-ЗалесскийРостовский муниципальный район Угличский муниципальный район Тутаевский муниципальный район Большесельский муниципальный район Борисоглебский муниципальный районБрейтовский муниципальный районГаврилов-Ямский муниципальный районДаниловский муниципальный районЛюбимский муниципальный районМышкинский муниципальный районНекоузский муниципальный районНекрасовский муниципальный районПервомайский муниципальный районПошехонский муниципальный районРыбинский муниципальный район Ростовский муниципальный район Угличский муниципальный район Тутаевский муниципальный район Большесельский муниципальный район Борисоглебский муниципальный районБрейтовский муниципальный районГаврилов-Ямский муниципальный районДаниловский муниципальный районЛюбимский муниципальный районМышкинский муниципальный районНекоузский муниципальный районНекрасовский муниципальный районПервомайский муниципальный районПереславский муниципальный районПошехонский муниципальный районНеуказанный территориальный признак | G14: 709750000
E15: 195 | F15: Контрольно счетная палата РМР | G15: ='Прил. 6 Расходы бюджета'!F34 -> 40000
F16: Итого | G16: =G11+G12+G13+G15 -> 326224.47
