Workbook

Sheet Прил.1 Нормативы зачислений
A2: Приложение 1
A3: к решению Муниципального Совета
A4: Каменниковского сельского поселения
A5: № 42 от 21.12.2021 г.
A7: Нормативы зачисления налоговых и неналоговых доходов в бюджет Каменниковского сельского поселения на 2022 год и на плановый период 2023 и 2024 годов
A8: Наименование | B8: Коды бюджетной классификации Российской Федерации | C8: Норматив зачисления
C9: %
A10: Прочие доходы от компенсации затрат бюджетов сельских поселений | B10: 240 1 13 02995 10 0000 130 | C10: 100
A11: Возмещение ущерба при возникновении страховых случаев, когда выгодоприобретателями выступают получатели средств бюджета сельского поселения | B11: 240 1 16 10031 10 0000 140 | C11: 100
A12: Невыясненные поступления, зачисляемые в бюджеты сельских поселений | B12: 240 1 17 01050 10 0000 180 | C12: 100
A13: Прочие неналоговые доходы бюджетов сельских поселений | B13: 240 1 17 05050 10 0000 180 | C13: 100

Sheet Прил.2 Доходы бюджета 2022
A2: Приложение 2
A3: к решению Муниципального Совета
A4: Каменниковского сельского поселения
A5: № 42 от 21.12.2021 г.
A7: Прогнозируемые доходы бюджета Каменниковского сельского поселения на 2022 год в соответствии с классификацией доходов бюджетов Российской Федерации
C9: руб.
A10: Код бюджетной классификации РФ | B10: Наименование доходов | C10: 2022 год
A12: 000 1 00 00000 00 0000 000 | B12: Налоговые и неналоговые доходы | C12: =C13+C26+C31+C33+C15+C24+C35 -> 6256000
A13: 182 1 01 00000 00 0000 000 | B13: Налоги на прибыль, доходы | C13: =C14 -> 340000
A14: 182 1 01 02010 01 1000 110 | B14: Налог на доходы физических лиц с доходов, источником которых является налоговый агент, за исключением доходов, в отношении которых исчисление и уплата налога осуществляются в соответствии со статьями 227, 227-1 и 228 Налогового кодекса Российской Федерации | C14: 340000
A15: 100 1 03 00000 00 0000 000 | B15: Налоги на товары (работы, услуги) реализуемые на территории РФ | C15: =C16+C21+C22+C23 -> 911000
A16: 100 1 03 02 23101 0000 110 | B16: Доходы от уплаты акцизов на дизельное топливо, зачисляемые в консолидированные бюджеты субъектов Российской Федерации | C16: 420000
A17: 100 1 03 02230 01 0000 110 | B17: Доходы от уплаты акцизов на дизельное топливо, зачисляемые в консолидированные бюджеты субъектов Российской Федерации | C17: 3
A18: 100 1 03 02240 01 0000 110 | B18: Доходы от уплаты акцизов на моторные масла для дизельных и (или) карбюраторных (инжекторных) двигателей, зачисляемые в консолидированные бюджеты субъектов Российской Федерации | C18: 550
A19: 100 1 03 02250 01 0000 110 | B19: Доходы от уплаты акцизов на автомобильный бензин, производимый на территории Российской Федерации, зачисляемые в консолидированные бюджеты субъектов Российской Федерации | C19: -62
A20: 100 1 03 02260 01 0000 110 | B20: Доходы от уплаты акцизов на прямогонный бензин, производимый на территории Российской Федерации, зачисляемые в консолидированные бюджеты субъектов Российской Федерации | C20: 420
A21: 100 1 03 02 24101 0000 110 | B21: Доходы от уплаты акцизов на моторные масла для дизельных и (или) карбюраторных (инжекторных) двигателей, зачисляемые в консолидированные бюджеты субъектов Российской Федерации | C21: 3000
A22: 100 1 03 02 25101 0000 110 | B22: Доходы от уплаты акцизов на автомобильный бензин, производимый на территории Российской Федерации, зачисляемые в консолидированные бюджеты субъектов Российской Федерации | C22: 550000
A23: 100 1 03 02 26101 0000 110 | B23: Доходы от уплаты акцизов на прямогонный бензин, производимый на территории Российской Федерации, зачисляемые в консолидированные бюджеты субъектов Российской Федерации | C23: -62000
A24: 182 1 05 00000 00 0000 000 | B24: Налоги на совокупный доход | C24: =C25 -> 22000
A25: 182 1 05 03010 01 1000 110 | B25: Единый сельскохозяйственный налог | C25: 22000
A26: 182 1 06 00000 00 0000 000 | B26: Налоги на имущество | C26: =C27+C28 -> 3118000
A27: 182 1 06 01030 10 1000 110 | B27: Налог на имущество физических лиц, взимаемый по ставкам, применяемым к объектам налогообложения, расположенным в границах сельских поселений | C27: 918000
A28: 182 1 06 06000 00 0000 110 | B28: Земельный налог | C28: =C29+C30 -> 2200000
A29: 182 1 06 06033 10 1000 110 | B29: Земельный налог с организаций, обладающих земельным участком, расположенным в границах сельских поселений (сумма платежа) | C29: 1200000
A30: 182 1 06 06043 10 1000 110 | B30: Земельный налог с физических лиц, обладающих земельным участком, расположенным в границах сельских поселений (сумма платежа) | C30: 1000000
A31: 240 1 08 00000 00 0000 000 | B31: Государственная пошлина | C31: =C32 -> 5000
A32: 240 1 08 04020 01 0000 110 | B32: Государственная пошлина за совершение нотариальных действий должностными лицами органов местного самоуправления, уполномоченными в соответствии с законодательными актами Российской Федерации на совершение нотариальных действий | C32: 5000
A33: 240 1 11 00000 00 0000 000 | B33: Доходы от использования имущества, находящегося в государственной и муниципальной собственности | C33: =C34 -> 660000
A34: 240 1 11 09045 10 0000 120 | B34: Прочие поступления от использования имущества, находящегося в собственности сельских поселений (за исключением имущества муниципальных бюджетных и автономных учреждений, а также имущества муниципальных унитарных предприятий, в том числе казенных | C34: 660000
A35: 240 1 14 00000 00 0000 000 | B35: Доходы от продажи материальных и нематериальных активов | C35: =C36 -> 1200000
A36: 240 1 14 02053 10 0000 410 | B36: Доходы от реализации иного имущества, находящегося в собственности сельских поселений (за исключением имущества муниципальных бюджетных и автономных учреждений, а также имущества муниципальных унитарных предприятий, в том числе казенных), в части реализации основных средств по указанному имуществу | C36: 1200000
A37: 000 2 00 00000 00 0000 000 | B37: Безвозмездные поступления | C37: =C38 -> 73322737
A38: 240 2 02 00000 00 0000 000 | B38: Безвозмездные поступления от других бюджетов бюджетной системы Российской Федерации | C38: =SUM(C39:C45) -> 73322737
A39: 240 2 02 15001 10 0000 150 | B39: Дотации бюджетам поселений на выравнивание бюджетной обеспеченности | C39: 6961000
A40: 240 2 02 35118 10 0000 150 | B40: Субвенции бюджетам сельских поселений на осуществление первичного воинского учета на территориях, где отсутствуют военные комиссариаты | C40: 243919
A41: 240 2 02 20299 10 0000 150 | B41: Субсидии бюджетам сельских поселений на обеспечение мероприятий по переселению граждан из аварийного жилищного фонда, в том числе переселению граждан из аварийного жилищного фонда с учетом необходимости развития малоэтажного жилищного строительства, за счет средств, поступивших от государственной корпорации - Фонда содействия реформированию жилищно-коммунального хозяйства | C41: 58882805
A42: 240 2 02 20302 10 0000 150 | B42: Субсидии бюджетам сельских поселений на обеспечение мероприятий по переселению граждан из аварийного жилищного фонда, в том числе переселению граждан из аварийного жилищного фонда с учетом необходимости развития малоэтажного жилищного строительства, за счет средств бюджетов | C42: 2330778
A43: 240 2 02 20041 10 0000 150 | B43: Субсидии бюджетам сельских поселений на строительство, модернизацию, ремонт и содержание автомобильных дорог общего пользования, в том числе дорог в поселениях (за исключением автомобильных дорог федерального значения) | C43: =1479988+1182394 -> 2662382
A44: 240 2 02 25555 10 0000 150 | B44: Субсидии бюджетам сельских поселений на поддержку государственных программ субъектов Российской Федерации и муниципальных программ формирования современной городской среды | C44: 1941853
...

Sheet Прил.3 Доходы бюджета 2023-2024
A2: Приложение 3
A3: к решению Муниципального Совета
A4: Каменниковского сельского поселения
A5: № 42 от 21.12.2021 г.
A7: Прогнозируемые доходы бюджета Каменниковского сельского поселения на плановый период 2023 и 2024 годов в соответствии с классификацией доходов бюджетов Российской Федерации
D9: руб.
A10: Код бюджетной классификации РФ | B10: Наименование доходов | C10: 2023 год | D10: 2024 год
A12: 000 1 00 00000 00 0000 000 | B12: Налоговые и неналоговые доходы | C12: =C13+C26+C31+C33+C15+C24 -> 5317000 | D12: =D13+D26+D31+D33+D15+D24 -> 5493000
A13: 182 1 01 00000 00 0000 000 | B13: Налоги на прибыль, доходы | C13: =C14 -> 355000 | D13: =D14 -> 373000
A14: 182 1 01 02010 01 1000 110 | B14: Налог на доходы физических лиц с доходов, источником которых является налоговый агент, за исключением доходов, в отношении которых исчисление и уплата налога осуществляются в соответствии со статьями 227, 227-1 и 228 Налогового кодекса Российской Федерации | C14: 355000 | D14: 373000
A15: 100 1 03 00000 00 0000 000 | B15: Налоги на товары (работы, услуги) реализуемые на территории РФ | C15: =C16+C21+C22+C23 -> 948000 | D15: =D16+D21+D22+D23 -> 986000
A16: 100 1 03 02 23101 0000 110 | B16: Доходы от уплаты акцизов на дизельное топливо, зачисляемые в консолидированные бюджеты субъектов Российской Федерации | C16: 440000 | D16: 460000
A17: 100 1 03 02230 01 0000 110 | B17: Доходы от уплаты акцизов на дизельное топливо, зачисляемые в консолидированные бюджеты субъектов Российской Федерации | C17: 3 | D17: 3
A18: 100 1 03 02240 01 0000 110 | B18: Доходы от уплаты акцизов на моторные масла для дизельных и (или) карбюраторных (инжекторных) двигателей, зачисляемые в консолидированные бюджеты субъектов Российской Федерации | C18: 570 | D18: 589
A19: 100 1 03 02250 01 0000 110 | B19: Доходы от уплаты акцизов на автомобильный бензин, производимый на территории Российской Федерации, зачисляемые в консолидированные бюджеты субъектов Российской Федерации | C19: -65 | D19: -66
A20: 100 1 03 02260 01 0000 110 | B20: Доходы от уплаты акцизов на прямогонный бензин, производимый на территории Российской Федерации, зачисляемые в консолидированные бюджеты субъектов Российской Федерации | C20: 440 | D20: 460
A21: 100 1 03 02 24101 0000 110 | B21: Доходы от уплаты акцизов на моторные масла для дизельных и (или) карбюраторных (инжекторных) двигателей, зачисляемые в консолидированные бюджеты субъектов Российской Федерации | C21: 3000 | D21: 3000
A22: 100 1 03 02 25101 0000 110 | B22: Доходы от уплаты акцизов на автомобильный бензин, производимый на территории Российской Федерации, зачисляемые в консолидированные бюджеты субъектов Российской Федерации | C22: 570000 | D22: 589000
A23: 100 1 03 02 26101 0000 110 | B23: Доходы от уплаты акцизов на прямогонный бензин, производимый на территории Российской Федерации, зачисляемые в консолидированные бюджеты субъектов Российской Федерации | C23: -65000 | D23: -66000
A24: 182 1 05 00000 00 0000 000 | B24: Налоги на совокупный доход | C24: =C25 -> 22000 | D24: =D25 -> 22000
A25: 182 1 05 03010 01 1000 110 | B25: Единый сельскохозяйственный налог | C25: 22000 | D25: 22000
A26: 182 1 06 00000 00 0000 000 | B26: Налоги на имущество | C26: =C27+C28 -> 3337000 | D26: =D27+D28 -> 3457000
A27: 182 1 06 01030 10 1000 110 | B27: Налог на имущество физических лиц, взимаемый по ставкам, применяемым к объектам налогообложения, расположенным в границах сельских поселений | C27: 937000 | D27: 957000
A28: 182 1 06 06000 00 0000 110 | B28: Земельный налог | C28: =C29+C30 -> 2400000 | D28: =D29+D30 -> 2500000
A29: 182 1 06 06033 10 1000 110 | B29: Земельный налог с организаций, обладающих земельным участком, расположенным в границах сельских поселений (сумма платежа) | C29: 1300000 | D29: 1350000
A30: 182 1 06 06043 10 1000 110 | B30: Земельный налог с физических лиц, обладающих земельным участком, расположенным в границах сельских поселений (сумма платежа) | C30: 1100000 | D30: 1150000
A31: 240 1 08 00000 00 0000 000 | B31: Государственная пошлина | C31: =C32 -> 5000 | D31: =D32 -> 5000
A32: 240 1 08 04020 01 0000 110 | B32: Государственная пошлина за совершение нотариальных действий должностными лицами органов местного самоуправления, уполномоченными в соответствии с законодательными актами Российской Федерации на совершение нотариальных действий | C32: 5000 | D32: 5000
A33: 240 1 11 00000 00 0000 000 | B33: Доходы от использования имущества, находящегося в государственной и муниципальной собственности | C33: =C34 -> 650000 | D33: =D34 -> 650000
A34: 240 1 11 09045 10 0000 120 | B34: Прочие поступления от использования имущества, находящегося в собственности сельских поселений (за исключением имущества муниципальных бюджетных и автономных учреждений, а также имущества муниципальных унитарных предприятий, в том числе казенных | C34: 650000 | D34: 650000
A35: 000 2 00 00000 00 0000 000 | B35: Безвозмездные поступления | C35: =C36 -> 4928000 | D35: =D36 -> 2922338
A36: 240 2 02 00000 00 0000 000 | B36: Безвозмездные поступления от других бюджетов бюджетной системы Российской Федерации | C36: =SUM(C37:C39) -> 4928000 | D36: =SUM(D37:D39) -> 2922338
A37: 240 2 02 15001 10 0000 150 | B37: Дотации бюджетам поселений на выравнивание бюджетной обеспеченности | C37: 2014000 | D37: 0
A38: 240 2 02 35118 10 0000 150 | B38: Субвенции бюджетам сельских поселений на осуществление первичного воинского учета на территориях, где отсутствуют военные комиссариаты | C38: 251618 | D38: 259956
A39: 240 2 02 20041 10 0000 150 | B39: Субсидии бюджетам сельских поселений на строительство, модернизацию, ремонт и содержание автомобильных дорог общего пользования, в том числе дорог в поселениях (за исключением автомобильных дорог федерального значения) | C39: =1479988+1182394 -> 2662382 | D39: =1479988+1182394 -> 2662382
A40: ВСЕГО: | C40: =C12+C35 -> 10245000 | D40: =D12+D35 -> 8415338

Sheet Прил.4 Расходы бюджета 2022
A2: Приложение 4
A3: к решению Муниципального Совета
A4: Каменниковского сельского поселения
A5: № 42 от 21.12.2021 г.
A7: Расходы бюджета Каменниковского сельского поселения по разделам и подразделам функциональной классификации расходов бюджетов Российской Федерации на 2022 год
C8: руб.
A9: Р ПР | B9: Наименование | C9: 2022 год
A10: 01 00 | B10: Общегосударственные вопросы | C10: =SUM(C11:C16) -> 6054260
A11: 01 02 | B11: Функционирование высшего должностного лица субъекта Российской Федерации и местного самоуправления | C11: 886000
A12: 01 03 | B12: Функционирование законодательных (представительных) органов государственной власти и представительных органов муниципальных образований | C12: 66000
A13: 01 04 | B13: Функционирование Правительства Российской Федерации, высших органов исполнительной власти субъектов Российской Федерации, местных администраций | C13: 3744580
A14: 01 06 | B14: Обеспечение деятельности финансовых органов и органов финансового (финансово-бюджетного ) надзора | C14: 127680
A15: 01 11 | B15: Резервные фонды | C15: 20000
A16: 01 13 | B16: Другие общегосударственные вопросы | C16: 1210000
A17: 02 00 | B17: Национальная оборона | C17: =C18 -> 243919
A18: 02 03 | B18: Мобилизационная и вневойсковая подготовка | C18: 243919
A19: 03 00 | B19: Национальная безопасность и правоохранительная деятельность | C19: =C20 -> 210000
A20: 03 10 | B20: Защита населения и территории от чрезвычайных ситуаций природного и техногенного характера, пожарная безопасность | C20: 210000
A21: 04 00 | B21: Национальная экономика | C21: =C22+C23 -> 4103382
A22: 04 09 | B22: Дорожное хозяйство | C22: 4073382
A23: 04 12 | B23: Другие вопросы в области национальной экономики | C23: 30000
A24: 05 00 | B24: Жилищно-коммунальное хозяйство | C24: =C25+C26+C27+C28 -> 68287176
A25: 05 01 | B25: Жилищное хозяйство | C25: 61742583
A26: 05 02 | B26: Коммунальное хозяйство | C26: 6000
A27: 05 03 | B27: Благоустройство | C27: 6037853
A28: 05 05 | B28: Другие вопросы в области жилищно-коммунального хозяйства | C28: 500740
A29: 07 00 | B29: Образование | C29: =C31+C30 -> 150000
A30: 07 05 | B30: Профессиональная подготовка, переподготовка и повышение квалификации | C30: 30000
A31: 07 07 | B31: Молодежная политика и оздоровление детей | C31: 120000
A32: 08 00 | B32: Культура, кинематография | C32: =C33 -> 380000
A33: 08 01 | B33: Культура | C33: 380000
A34: 10 00 | B34: Социальная политика | C34: =C35 -> 50000
A35: 10 01 | B35: Пенсионное обеспечение | C35: 50000
A36: 11 00 | B36: Физическая культура и спорт | C36: =C37 -> 100000
A37: 11 02 | B37: Массовый спорт | C37: 100000
A38: Всего | C38: =C10+C17+C19+C21+C24+C29+C32+C36+C34 -> 79578737

Sheet Прил.5 Расходы бюдж. 2023-2024
A2: Приложение 5
A3: к решению Муниципального Совета
A4: Каменниковского сельского поселения
A5: № 42 от 21.12.2021 г.
A7: Расходы бюджета Каменниковского сельского поселения по разделам и подразделам функциональной классификации расходов бюджетов Российской Федерации на плановый период 2023 и 2024 годов
D8: руб.
A9: Р ПР | B9: Наименование | C9: 2023 год | D9: 2024 год
A10: 01 00 | B10: Общегосударственные вопросы | C10: =SUM(C11:C14) -> 4715000 | D10: =SUM(D11:D14) -> 4166000
A11: 01 02 | B11: Функционирование высшего должностного лица субъекта Российской Федерации и местного самоуправления | C11: 886000 | D11: 886000
A12: 01 04 | B12: Функционирование Правительства Российской Федерации, высших органов исполнительной власти субъектов Российской Федерации, местных администраций | C12: 3321000 | D12: 3260000
A13: 01 11 | B13: Резервные фонды | C13: 20000 | D13: 20000
A14: 01 13 | B14: Другие общегосударственные вопросы | C14: 488000 | D14: 0
A15: 02 00 | B15: Национальная оборона | C15: =C16 -> 251618 | D15: =D16 -> 259956
A16: 02 03 | B16: Мобилизационная и вневойсковая подготовка | C16: 251618 | D16: 259956
A17: 04 00 | B17: Национальная экономика | C17: =C18 -> 3610382 | D17: =D18 -> 3648382
A18: 04 09 | B18: Дорожное хозяйство | C18: 3610382 | D18: 3648382
A19: 05 00 | B19: Жилищно-коммунальное хозяйство | C19: =C20+C21 -> 1434725 | D19: =D20+D21 -> 16350
A20: 05 03 | B20: Благоустройство | C20: 1034725 | D20: 16350
A21: 05 05 | B21: Другие вопросы в области жилищно-коммунального хозяйства | C21: 400000 | D21: 0
A22: 10 00 | B22: Социальная политика | C22: =C23 -> 50000 | D22: =D23 -> 50000
A23: 10 01 | B23: Пенсионное обеспечение | C23: 50000 | D23: 50000
A24: Итого: | C24: =C10+C15+C17+C19+C22 -> 10061725 | D24: =D10+D15+D17+D19+D22 -> 8140688
A25: Условно утвержденные расходы: | C25: 183275 | D25: 274650
A26: Всего: | C26: =C24+C25 -> 10245000 | D26: =D24+D25 -> 8415338

Sheet Прил. 6 Расходы бюджета 2022
A2: Приложение 6
A3: к решению Муниципального Совета
A4: Каменниковского сельского поселения
A5: № 42 от 21.12.2021 г.
A7: Распределение расходов бюджета Каменниковского сельского поселения по разделам, подразделам, целевым статьям, видам расходов функциональной классификации на 2022 год
F8: руб.
A9: Наименование | B9: Раздел | C9: ПР | D9: КЦСР | E9: КВР | F9: 2022 год
A10: Общегосударственные вопросы | B10: 01 | F10: =F13+F17+F20+F30+F35+F39 -> 6054260
A11: Непрограмные расходы органов местного самоуправления | D11: 50 0 00 00000 | F11: =F12+F36 -> 4837260
A12: Обеспечение функционирования органов местного самоуправления | D12: 50 1 00 00000 | F12: =F14+F18+F21+F31+F33 -> 4817260
A13: Функционирование высшего должностного лица субъекта РФ и органа местного самоуправления | C13: 02 | F13: =F14 -> 886000
A14: Обеспечение функционирования главы муниципального образования | D14: 50 1 00 20540 | F14: =F15+F16 -> 886000
A15: Фонд оплаты труда государственных (муниципальных) органов | E15: 121 | F15: 680000
A16: Взнос по обязательному социальному страхованию на выплаты денежного содержания и иные выплаты работникам государственных (муниципальных) органов | E16: 129 | F16: 206000
A17: Функционирование законодательных (представительных) органов государственной власти и представительных органов муниципальных образований | C17: 03 | F17: =F18 -> 66000
A18: Обеспечение функционирования депутатов представительного органа муниципального образования | D18: 50 1 00 20490 | F18: =F19 -> 66000
A19: Иные выплаты, за исключением фонда оплаты труда государственных (муниципальных) органов, лицам, привлекаемым согласно законодательству для выполнения отдельных полномочий | E19: 123 | F19: 66000
A20: Функционирование Правительства РФ, высших органов исполнительной власти субъектов Российской Федерации, местных администраций | C20: 04 | F20: =F21+F28 -> 3744580
A21: Обеспечение функционирования центрального аппарата | D21: 50 1 00 20550 | F21: =F22+F23+F24+F25+F26+F27 -> 3737580
A22: Фонд оплаты труда государственных (муниципальных) органов и взносы по обязательному социальному страхованию | E22: 121 | F22: 2500000
A23: Иные выплаты персоналу государственных (муниципальных) органов, за исключением фонда оплаты труда | E23: 122 | F23: 6000
A24: Взнос по обязательному социальному страхованию на выплаты денежного содержания и иные выплаты работникам государственных (муниципальных) органов | E24: 129 | F24: 755000
A25: Прочая закупка товаров, работ и услуг | E25: 244 | F25: 439580
A26: Уплата прочих налогов, сборов и иных платежей | E26: 852 | F26: 6000
A27: Уплата иных платежей | E27: 853 | F27: 31000
A28: Межбюджетные трансферты бюджету района из бюджета поселения на осуществление закупок товаров, работ и услуг для обеспечения муниципальных нужд в части полномочий по определению поставщиков (подрядчиков, исполнителей) конкурентными способами закупок | D28: 50 1 00 20510 | F28: =F29 -> 7000
A29: Иные межбюджетные трансферты | E29: 540 | F29: 7000
A30: Обеспечение деятельности финансовых органов и органов финансового (финансово-бюджетного ) надзора | C30: 06 | F30: =F31+F33 -> 127680
A31: Межбюджетные трансферты бюджету района из бюджета поселения на казначейское исполнение бюджета | D31: 50 1 00 20500 | F31: =F32 -> 87680
A32: Иные межбюджетные трансферты | E32: 540 | F32: 87680
A33: Межбюджетные трансферты бюджету района из бюджета поселения на осуществление внешнего муниципального финансового контроля | D33: 50 1 00 20520 | F33: =F34 -> 40000
A34: Иные межбюджетные трансферты | E34: 540 | F34: 40000
A35: Резервные фонды | C35: 11 | F35: =F37 -> 20000
A36: Непрограмные расходы органов местного самоуправления не предусмотренные иными целевыми статьями расходов бюджетов поселений, по соответствующим направлениям расходов | D36: 50 2 00 00000 | F36: =F37 -> 20000
A37: Резервный фонд местной администрации | D37: 50 2 00 20540 | F37: =F38 -> 20000
A38: Резервные средства | E38: 870 | F38: 20000
A39: Другие общегосударственные вопросы | C39: 13 | F39: =F40+F47 -> 1210000
A40: Муниципальная программа "Эффективная власть в Каменниковском сельском поселении Рыбинского муниципального района" | D40: 17 0 00 00000 | F40: =F41 -> 920000
A41: Развитие муниципальной службы в Каменниковском сельском поселении | D41: 17 1 00 00000 | F41: =F42 -> 920000
A42: Развитие материально-технической базы | D42: 17 1 00 20060 | F42: =F43+F44+F46+F45 -> 920000
...

Sheet Прил. 7 Расходы бюдж.2023-2024
A2: Приложение 7
A3: к решению Муниципального Совета
A4: Каменниковского сельского поселения
A5: № 42 от 21.12.2021 г.
A7: Распределение расходов бюджета Каменниковского сельского поселения по разделам, подразделам, целевым статьям, видам расходов функциональной классификации на плановый период 2023 и 2024 годов
G8: руб.
A9: Наименование | B9: Раздел | C9: ПР | D9: КЦСР | E9: КВР | F9: 2023 год | G9: 2024 год
A10: Общегосударственные вопросы | B10: 01 | F10: =F13+F17+F24+F28 -> 4715000 | G10: =G13+G17+G24+G28 -> 4166000
A11: Непрограмные расходы органов местного самоуправления | D11: 50 0 00 00000 | F11: =F12+F25 -> 4227000 | G11: =G12+G25 -> 4166000
A12: Обеспечение функционирования органов местного самоуправления | D12: 50 1 00 00000 | F12: =F14+F18 -> 4207000 | G12: =G14+G18 -> 4146000
A13: Функционирование высшего должностного лица субъекта РФ и органа местного самоуправления | C13: 02 | F13: =F14 -> 886000 | G13: =G14 -> 886000
A14: Обеспечение функционирования главы муниципального образования | D14: 50 1 00 20540 | F14: =F15+F16 -> 886000 | G14: =G15+G16 -> 886000
A15: Фонд оплаты труда государственных (муниципальных) органов | E15: 121 | F15: 680000 | G15: 680000
A16: Взнос по обязательному социальному страхованию на выплаты денежного содержания и иные выплаты работникам государственных (муниципальных) органов | E16: 129 | F16: 206000 | G16: 206000
A17: Функционирование Правительства РФ, высших органов исполнительной власти субъектов Российской Федерации, местных администраций | C17: 04 | F17: =F18 -> 3321000 | G17: =G18 -> 3260000
A18: Обеспечение функционирования центрального аппарата | D18: 50 1 00 20550 | F18: =F19+F20+F21+F22+F23 -> 3321000 | G18: =G19+G20+G21+G22+G23 -> 3260000
A19: Фонд оплаты труда государственных (муниципальных) органов и взносы по обязательному социальному страхованию | E19: 121 | F19: 2500000 | G19: 2500000
A20: Иные выплаты персоналу государственных (муниципальных) органов, за исключением фонда оплаты труда | E20: 122 | F20: 6000 | G20: 0
A21: Взнос по обязательному социальному страхованию на выплаты денежного содержания и иные выплаты работникам государственных (муниципальных) органов | E21: 129 | F21: 755000 | G21: 755000
A22: Прочая закупка товаров, работ и услуг | E22: 244 | F22: 55000 | G22: 0
A23: Уплата прочих налогов, сборов и иных платежей | E23: 852 | F23: 5000 | G23: 5000
A24: Резервные фонды | C24: 11 | F24: =F26 -> 20000 | G24: =G26 -> 20000
A25: Непрограмные расходы органов местного самоуправления не предусмотренные иными целевыми статьями расходов бюджетов поселений, по соответствующим направлениям расходов | D25: 50 2 00 00000 | F25: =F26 -> 20000 | G25: =G26 -> 20000
A26: Резервный фонд местной администрации | D26: 50 2 00 20540 | F26: =F27 -> 20000 | G26: =G27 -> 20000
A27: Резервные средства | E27: 870 | F27: 20000 | G27: 20000
A28: Другие общегосударственные вопросы | C28: 13 | F28: =F29 -> 488000 | G28: =G29 -> 0
A29: Муниципальная программа "Эффективная власть в Каменниковском сельском поселении Рыбинского муниципального района" | D29: 17 0 00 00000 | F29: =F30 -> 488000 | G29: =G30 -> 0
A30: Развитие муниципальной службы в Каменниковском сельском поселении | D30: 17 1 00 00000 | F30: =F31 -> 488000 | G30: =G31 -> 0
A31: Развитие материально-технической базы | D31: 17 1 00 20060 | F31: =F32+F33+F34 -> 488000 | G31: =G32+G33+G34 -> 0
A32: Закупка товаров, работ, услуг в сфере информационно-коммуникационных технологий | E32: 242 | F32: 100000 | G32: 0
A33: Прочая закупка товаров, работ и услуг | E33: 244 | F33: 246000 | G33: 0
A34: Закупка энергетических ресурсов | E34: 247 | F34: 142000 | G34: 0
A35: Национальная оборона | B35: 02 | F35: =F36 -> 251618 | G35: =G36 -> 259956
A36: Мобилизационная и вневойсковая подготовка | C36: 03 | F36: =F40+F41 -> 251618 | G36: =G40+G41 -> 259956
A37: Непрограмные расходы органов местного самоуправления | D37: 50 0 00 00000 | F37: =F38 -> 251618 | G37: =G38 -> 259956
A38: Обеспечение функционирования органов местного самоуправления | D38: 50 1 00 00000 | F38: =F39 -> 251618 | G38: =G39 -> 259956
A39: Исполнение переданных полномочий РФ на осуществление первичного воинского учета на территориях, где отсутствуют военные комиссариаты | D39: 50 1 00 51180 | F39: =F40+F41 -> 251618 | G39: =G40+G41 -> 259956
A40: Фонд оплаты труда государственных (муниципальных) органов и взносы по обязательному социальному страхованию | E40: 121 | F40: 193254.99 | G40: 199658.99
A41: Взнос по обязательному социальному страхованию на выплаты денежного содержания и иные выплаты работникам государственных (муниципальных) органов | E41: 129 | F41: 58363.01 | G41: 60297.01
A42: Национальная экономика | B42: 04 | F42: =F43 -> 3610382 | G42: =G43 -> 3648382
...

Sheet Прил.8 Перечень гл. расп.
A2: Приложение 8
A3: к решению Муниципального Совета
A4: Каменниковского сельского поселения
A5: № 42 от 21.12.2021 г.
A7: ПЕРЕЧЕНЬ
A8: Главных распорядителей бюджетных средств бюджета Каменниковского сельского поселения на 2021 год и на плановый период 2023 и 2024 годов
A10: Наименование | B10: Код ведомственной классификации
A11: Администрация Каменниковского сельского поселения | B11: 240
A12: Муниципальный Совет Каменниковского сельского поселения | B12: 241

Sheet Прил.9 Ведомственная
A2: Приложение 9
A3: к решению Муниципального Совета
A4: Каменниковского сельского поселения
A5: № 42 от 21.12.2021 г.
A7: Ведомственная структура расходов бюджета Каменниковского сельского поселения на 2022 год и на плановый период 2023 и 2024 годов
E8: руб.
A9: Код ГРБС | B9: Наименование главного распорядителя бюджетных средств | C9: 2022 год | D9: 2023 год | E9: 2024 год
A10: 240 | B10: Администрация Каменниковского сельского поселения | C10: ='Прил. 6 Расходы бюджета 2022'!F162-'Прил. 6 Расходы бюджета 2022'!F17 -> 79512737 | D10: ='Прил. 7 Расходы бюдж.2023-2024'!F77 -> 10245000 | E10: ='Прил. 7 Расходы бюдж.2023-2024'!G77 -> 8415338
A11: 241 | B11: Муниципальный Совет Каменниковского сельского поселения | C11: ='Прил. 6 Расходы бюджета 2022'!F17 -> 66000 | D11: 0 | E11: 0
A12: Итого: | C12: =C10+C11 -> 79578737 | D12: =D10+D11 -> 10245000 | E12: =E10+E11 -> 8415338

Sheet Прил.10 Источники 2022
A2: Приложение 10
A3: к решению Муниципального Совета
A4: Каменниковского сельского поселения
A5: № 42 от 21.12.2021 г.
A8: Источники внутреннего финансирования дефицита бюджета Каменниковского сельского поселения на 2022 год
A11: Наименование | B11: Код бюджетной классификации | C11: 2022 год | D11: 2022 год
A12: Изменение остатков средств на счетах по учету средств бюджета | B12: 240 01 05 00 00 00 0000 000 | C12: =C13-C14 -> 0 | D12: =D13-D14 -> 0
A13: Увеличение прочих остатков денежных средств бюджетов сельских поселений | B13: 240 01 05 02 01 10 0000 510 | C13: ='Прил.2 Доходы бюджета 2022'!C46 -> 79578737 | D13: ='Прил.2 Доходы бюджета 2022'!D46 -> 0
A14: Уменьшение прочих остатков денежных средств бюджетов сельских поселений | B14: 240 01 05 02 01 10 0000 610 | C14: ='Прил. 6 Расходы бюджета 2022'!F162 -> 79578737 | D14: ='Прил.4 Расходы бюджета 2022'!D38 -> 0
A15: ИТОГО источников внутреннего финансирования | C15: =C12 -> 0 | D15: =D12 -> 0

Sheet Прил.11 Источники 2023-2024
A2: Приложение 11
A3: к решению Муниципального Совета
A4: Каменниковского сельского поселения
A5: № 42 от 21.12.2021 г.
A8: Источники внутреннего финансирования дефицита бюджета Каменниковского сельского поселения на 2022 год и на плановый период 2023 и 2024 годов
E10: руб.
A11: Наименование | B11: Код бюджетной классификации | C11: 2022 год | D11: 2023 год | E11: 2024 год
A12: Изменение остатков средств на счетах по учету средств бюджета | B12: 240 01 05 00 00 00 0000 000 | C12: =C13-C14 -> 0 | D12: =D13-D14 -> 0 | E12: =E13-E14 -> 0
A13: Увеличение прочих остатков денежных средств бюджетов сельских поселений | B13: 240 01 05 02 01 10 0000 510 | C13: ='Прил.2 Доходы бюджета 2022'!D46 -> 0 | D13: ='Прил.3 Доходы бюджета 2023-2024'!C40 -> 10245000 | E13: ='Прил.3 Доходы бюджета 2023-2024'!D40 -> 8415338
A14: Уменьшение прочих остатков денежных средств бюджетов сельских поселений | B14: 240 01 05 02 01 10 0000 610 | C14: ='Прил.4 Расходы бюджета 2022'!D38 -> 0 | D14: ='Прил. 7 Расходы бюдж.2023-2024'!F77 -> 10245000 | E14: ='Прил. 7 Расходы бюдж.2023-2024'!G77 -> 8415338
A15: ИТОГО источников внутреннего финансирования | C15: =C12 -> 0 | D15: =D12 -> 0 | E15: =E12 -> 0

Sheet Приложение 12 МБТ из субъектов
A2: Приложение 12
A3: к решению Муниципального Совета
A4: Каменниковского сельского поселения
A5: № 42 от 21.12.2021 г.
A7: Объем межбюджетных транфертов, получаемых из других бюджетов бюджетной системы Российской Федерации на 2022 год и на плановый период 2023 и 2024 годов
E9: руб.
A10: Код бюджетной классификации РФ | B10: Наименование доходов | C10: 2021 год | D10: 2022 год | E10: 2023 год
A12: Итого: | C12: =SUM(C13:C19) -> 73322737 | D12: =SUM(D13:D19) -> 4928000 | E12: =SUM(E13:E19) -> 2922338
A13: 240 2 02 15001 10 0000 150 | B13: Дотации бюджетам поселений на выравнивание бюджетной обеспеченности | C13: 6961000 | D13: 2014000 | E13: 0
A14: 240 2 02 35118 10 0000 150 | B14: Субвенции бюджетам сельских поселений на осуществление первичного воинского учета на территориях, где отсутствуют военные комиссариаты | C14: 243919 | D14: 251618 | E14: 259956
A15: 240 2 02 20299 10 0000 150 | B15: Субсидии бюджетам сельских поселений на обеспечение мероприятий по переселению граждан из аварийного жилищного фонда, в том числе переселению граждан из аварийного жилищного фонда с учетом необходимости развития малоэтажного жилищного строительства, за счет средств, поступивших от государственной корпорации - Фонда содействия реформированию жилищно-коммунального хозяйства | C15: 58882805 | D15: 0 | E15: 0
A16: 240 2 02 20302 10 0000 150 | B16: Субсидии бюджетам сельских поселений на обеспечение мероприятий по переселению граждан из аварийного жилищного фонда, в том числе переселению граждан из аварийного жилищного фонда с учетом необходимости развития малоэтажного жилищного строительства, за счет средств бюджетов | C16: 2330778 | D16: 0 | E16: 0
A17: 240 2 02 20041 10 0000 150 | B17: Субсидии бюджетам сельских поселений на строительство, модернизацию, ремонт и содержание автомобильных дорог общего пользования, в том числе дорог в поселениях (за исключением автомобильных дорог федерального значения) | C17: =1479988+1182394 -> 2662382 | D17: =1479988+1182394 -> 2662382 | E17: =1479988+1182394 -> 2662382
A18: 240 2 02 25555 10 0000 150 | B18: Субсидии бюджетам сельских поселений на поддержку государственных программ субъектов Российской Федерации и муниципальных программ формирования современной городской среды | C18: 1941853 | D18: 0 | E18: 0
A19: 240 2 02 40014 10 0000 150 | B19: Межбюджетные трансферты, передаваемые бюджетам сельских поселений из бюджетов муниципальных районов на осуществление части полномочий по решению вопросов местного значения в соответствии с заключенными соглашениями | C19: 300000 | D19: 0 | E19: 0

Sheet Приложение 13 МБТ
A2: Приложение 13
A3: к решению Муниципального Совета
A4: Каменниковского сельского поселения
A5: № 42 от 21.12.2021 г.
E8: Межбюджетные трансферты бюджету Рыбинского муниципального района Ярославской области муниципального района на 2022 год и на плановый период 2023 и 2024 годов
E10: Код ГРБС | F10: Наименование | G10: 2022 год | I10: 2023 год | J10: 2024 год
B11: 3617300 | E11: Межбюджетные трансферты, передаваемые бюджету муниципального района из бюджета поселения на осуществление части полномочий по решению вопросов местного значения в соответствии с заключенными соглашениями | G11: =G12+G13+G14+G16+G17 -> 339420 | H11: =H12+H13+H14+H16+H17 -> 0 | I11: =I12+I13+I14+I16+I17 -> 0 | J11: =J12+J13+J14+J16+J17 -> 0
B12: 3617300 | C12: 30300 | D12: 540 | E12: 140 | F12: Управление ЖКХ, транспорта и связи администрации РМР | G12: 84740 | I12: ='[1]Прил. 6 Расходы бюджета'!H104 -> 0 | J12: ='[1]Прил. 6 Расходы бюджета'!I104 -> 0
B13: 3617300 | C13: 30400 | D13: 540 | E13: 130 | F13: Управление экономики и финансов администрации РМР | G13: ='[1]Прил. 6 Расходы бюджета'!F32 -> 87680 | I13: ='[1]Прил. 6 Расходы бюджета'!H32 -> 0 | J13: ='[1]Прил. 6 Расходы бюджета'!I32 -> 0
B14: 3617300 | C14: 30600 | D14: 540 | E14: 127 | F14: Управление по культуре, молодежи и спорту администрации РМР | G14: ='[1]Прил. 6 Расходы бюджета'!F119 -> 120000 | I14: ='[1]Прил. 6 Расходы бюджета'!H119 -> 0 | J14: ='[1]Прил. 6 Расходы бюджета'!I119 -> 0
F15: городской округ г.Переславль-ЗалесскийРостовский муниципальный район Угличский муниципальный район Тутаевский муниципальный район Большесельский муниципальный район Борисоглебский муниципальный районБрейтовский муниципальный районГаврилов-Ямский муниципальный районДаниловский муниципальный районЛюбимский муниципальный районМышкинский муниципальный районНекоузский муниципальный районНекрасовский муниципальный районПервомайский муниципальный районПошехонский муниципальный районРыбинский муниципальный район Ростовский муниципальный район Угличский муниципальный район Тутаевский муниципальный район Большесельский муниципальный район Борисоглебский муниципальный районБрейтовский муниципальный районГаврилов-Ямский муниципальный районДаниловский муниципальный районЛюбимский муниципальный районМышкинский муниципальный районНекоузский муниципальный районНекрасовский муниципальный районПервомайский муниципальный районПереславский муниципальный районПошехонский муниципальный районНеуказанный территориальный признак | G15: 709750000 | I15: 709750000 | J15: 709750000
E16: 195 | F16: Контрольно счетная палата РМР | G16: ='[1]Прил. 6 Расходы бюджета'!F34 -> 40000 | I16: ='[1]Прил. 6 Расходы бюджета'!H34 -> 0 | J16: ='[1]Прил. 6 Расходы бюджета'!I34 -> 0
E17: 120 | F17: Администрация РМР | G17: 7000 | I17: ='[1]Прил. 6 Расходы бюджета'!H35 -> 0 | J17: ='[1]Прил. 6 Расходы бюджета'!I35 -> 0
