Workbook

Sheet Прил.1 Нормативы зачислений
A2: Приложение 1
A3: к решению Муниципального Совета
A4: Каменниковского сельского поселения
A5: № 68 от 22.12.2022 г.
B6: (в редакции от 21.12.2023 г. № 86)
A8: Нормативы зачисления налоговых и неналоговых доходов в бюджет Каменниковского сельского поселения на 2023 год и на плановый период 2024 и 2025 годов
A9: Наименование | B9: Коды бюджетной классификации Российской Федерации | C9: Норматив зачисления
C10: %
A11: Прочие доходы от компенсации затрат бюджетов сельских поселений | B11: 240 1 13 02995 10 0000 130 | C11: 100
A12: Возмещение ущерба при возникновении страховых случаев, когда выгодоприобретателями выступают получатели средств бюджета сельского поселения | B12: 240 1 16 10031 10 0000 140 | C12: 100
A13: Невыясненные поступления, зачисляемые в бюджеты сельских поселений | B13: 240 1 17 01050 10 0000 180 | C13: 100
A14: Прочие неналоговые доходы бюджетов сельских поселений | B14: 240 1 17 05050 10 0000 180 | C14: 100

Sheet Прил.2 Доходы бюджета 2023
A2: Приложение 2
A3: к решению Муниципального Совета
A4: Каменниковского сельского поселения
A5: № 68 от 22.12.2022 г.
B6: (в редакции от 21.12.2023 г. № 86)
A7: Прогнозируемые доходы бюджета Каменниковского сельского поселения на 2023 год в соответствии с классификацией доходов бюджетов Российской Федерации
C9: руб.
A10: Код бюджетной классификации РФ | B10: Наименование доходов | C10: 2023 год
A12: 000 1 00 00000 00 0000 000 | B12: Налоговые и неналоговые доходы | C12: =C13+C15+C22+C26+C28+C31+C33+C20 -> 6358382.3
A13: 182 1 01 00000 00 0000 000 | B13: Налоги на прибыль, доходы | C13: =C14 -> 389000
A14: 182 1 01 02010 01 1000 110 | B14: Налог на доходы физических лиц с доходов, источником которых является налоговый агент, за исключением доходов, в отношении которых исчисление и уплата налога осуществляются в соответствии со статьями 227, 227-1 и 228 Налогового кодекса Российской Федерации | C14: 389000
A15: 182 1 03 00000 00 0000 000 | B15: Налоги на товары (работы, услуги) реализуемые на территории РФ | C15: =C16+C17+C18+C19 -> 1120000
A16: 182 1 03 02 23101 0000 110 | B16: Доходы от уплаты акцизов на дизельное топливо, подлежащие распределению между бюджетами субъектов Российской Федерации и местными бюджетами с учетом установленных дифференцированных нормативов отчислений в местные бюджеты (по нормативам, установленным федеральным законом о федеральном бюджете в целях формирования дорожных фондов субъектов Российской Федерации) | C16: 582500
A17: 182 1 03 02 24101 0000 110 | B17: Доходы от уплаты акцизов на моторные масла для дизельных и (или) карбюраторных (инжекторных) двигателей, подлежащие распределению между бюджетами субъектов Российской Федерации и местными бюджетами с учетом установленных дифференцированных нормативов отчислений в местные бюджеты (по нормативам, установленным федеральным законом о федеральном бюджете в целях формирования дорожных фондов субъектов Российской Федерации) | C17: 2900
A18: 182 1 03 02 25101 0000 110 | B18: Доходы от уплаты акцизов на автомобильный бензин, подлежащие распределению между бюджетами субъектов Российской Федерации и местными бюджетами с учетом установленных дифференцированных нормативов отчислений в местные бюджеты (по нормативам, установленным федеральным законом о федеральном бюджете в целях формирования дорожных фондов субъектов Российской Федерации) | C18: 604600
A19: 182 1 03 02 26101 0000 110 | B19: Доходы от уплаты акцизов на прямогонный бензин, подлежащие распределению между бюджетами субъектов Российской Федерации и местными бюджетами с учетом установленных дифференцированных нормативов отчислений в местные бюджеты (по нормативам, установленным федеральным законом о федеральном бюджете в целях формирования дорожных фондов субъектов Российской Федерации) | C19: -70000
A20: 182 1 05 00000 00 0000 000 | B20: Налоги на совокупный доход | C20: =C21 -> -3000
A21: 182 1 05 03010 01 3000 110 | B21: Единый сельскохозяйственный налог (суммы денежных взысканий (штрафов) по соответствующему платежу согласно законодательству Российской Федерации) | C21: -3000
A22: 182 1 06 00000 00 0000 000 | B22: Налоги на имущество | C22: =C23+C24+C25 -> 3497000
A23: 182 1 06 01030 10 1000 110 | B23: Налог на имущество физических лиц, взимаемый по ставкам, применяемым к объектам налогообложения, расположенным в границах сельских поселений | C23: 1400000
A24: 182 1 06 06033 10 1000 110 | B24: Земельный налог с организаций, обладающих земельным участком, расположенным в границах сельских поселений (сумма платежа (перерасчеты, недоимка и задолженность по соответствующему платежу, в том числе по отмененному) | C24: 880000
A25: 182 1 06 06043 10 1000 110 | B25: Земельный налог с физических лиц, обладающих земельным участком, расположенным в границах сельских поселений (сумма платежа (перерасчеты, недоимка и задолженность по соответствующему платежу, в том числе по отмененному) | C25: 1217000
A26: 240 1 08 00000 00 0000 000 | B26: Государственная пошлина | C26: =C27 -> 10000
A27: 240 1 08 04020 01 0000 110 | B27: Государственная пошлина за совершение нотариальных действий должностными лицами органов местного самоуправления, уполномоченными в соответствии с законодательными актами Российской Федерации на совершение нотариальных действий | C27: 10000
A28: 240 1 11 00000 00 0000 000 | B28: Доходы от использования имущества, находящегося в государственной и муниципальной собственности | C28: =C29+C30 -> 651829
A29: 240 1 11 09045 10 0000 120 | B29: Прочие поступления от использования имущества, находящегося в собственности сельских поселений (за исключением имущества муниципальных бюджетных и автономных учреждений, а также имущества муниципальных унитарных предприятий, в том числе казенных | C29: 650000
A30: 240 1 11 05035 10 0000 120 | B30: Доходы от сдачи в аренду имущества, находящегося в оперативном управлении органов управления сельских поселений и созданных ими учреждений (за исключением имущества муниципальных бюджетных и автономных учреждений) | C30: 1829
A31: 240 1 14 00000 00 0000 000 | B31: Доходы от продажи материальных и нематериальных активов | C31: =C32 -> 685500.31
A32: 240 1 14 02053 10 0000 410 | B32: Доходы от реализации иного имущества, находящегося в собственности сельских поселений (за исключением имущества муниципальных бюджетных и автономных учреждений, а также имущества муниципальных унитарных предприятий, в том числе казенных), в части реализации основных средств по указанному имуществу | C32: 685500.31
A33: 240 1 16 00000 00 0000 000 | B33: Штрафы, санкции, возмещение ущерба | C33: =C34 -> 8052.94
A34: 240 1 16 07010 10 0000 140 | B34: Штрафы, неустойки, пени, уплаченные в случае просрочки исполнения поставщиком (подрядчиком, исполнителем) обязательств, предусмотренных муниципальным контрактом, заключенным муниципальным органом, казенным учреждением сельского поселения | C34: 8052.94
A35: 000 2 00 00000 00 0000 000 | B35: Безвозмездные поступления | C35: =C36 -> 92352549
A36: 240 2 02 00000 00 0000 000 | B36: Безвозмездные поступления от других бюджетов бюджетной системы Российской Федерации | C36: =SUM(C37:C45) -> 92352549
A37: 240 2 02 15001 10 0000 150 | B37: Дотации бюджетам поселений на выравнивание бюджетной обеспеченности | C37: 7466000
A38: 240 2 02 20041 10 0000 150 | B38: Субсидии бюджетам сельских поселений на строительство, модернизацию, ремонт и содержание автомобильных дорог общего пользования, в том числе дорог в поселениях (за исключением автомобильных дорог федерального значения) | C38: =2818994+4300000-10635-774923 -> 6333436
A39: 240 2 02 20299 10 0000 150 | B39: Субсидии бюджетам сельских поселений на обеспечение мероприятий по переселению граждан из аварийного жилищного фонда, в том числе переселению граждан из аварийного жилищного фонда с учетом необходимости развития малоэтажного жилищного строительства, за счет средств, поступивших от государственной корпорации - Фонда содействия реформированию жилищно-коммунального хозяйства | C39: 69529320
A40: 240 2 02 20302 10 0000 150 | B40: Субсидии бюджетам сельских поселений на обеспечение мероприятий по переселению граждан из аварийного жилищного фонда, в том числе переселению граждан из аварийного жилищного фонда с учетом необходимости развития малоэтажного жилищного строительства, за счет средств бюджетов | C40: 2752203
A41: 240 2 02 25555 10 0000 150 | B41: Субсидии бюджетам сельских поселений на поддержку государственных программ субъектов Российской Федерации и муниципальных программ формирования современной городской среды | C41: =5012039+315969 -> 5328008
A42: 240 2 02 35118 10 0000 150 | B42: Субвенции бюджетам сельских поселений на осуществление первичного воинского учета на территориях, где отсутствуют военные комиссариаты | C42: 293942
A43: 240 2 02 40014 10 0000 150 | B43: Межбюджетные трансферты, передаваемые бюджетам сельских поселений из бюджетов муниципальных районов на осуществление части полномочий по решению вопросов местного значения в соответствии с заключенными соглашениями | C43: 300000
...

Sheet Прил.3 Доходы бюджета 2024-2025
A2: Приложение 3
A3: к решению Муниципального Совета
A4: Каменниковского сельского поселения
A5: № 68 от 22.12.2022 г.
A6: (в редакции от 21.12.2023 г. № 86)
A7: Прогнозируемые доходы бюджета Каменниковского сельского поселения на плановый период 2024 и 2025 годов в соответствии с классификацией доходов бюджетов Российской Федерации
D9: руб.
A10: Код бюджетной классификации РФ | B10: Наименование доходов | C10: 2024 год | D10: 2025 год
A12: 000 1 00 00000 00 0000 000 | B12: Налоговые и неналоговые доходы | C12: =C13+C15+C20+C26+C28 -> 5710000 | D12: =D13+D15+D20+D26+D28 -> 5830000
A13: 182 1 01 00000 00 0000 000 | B13: Налоги на прибыль, доходы | C13: =C14 -> 372000 | D13: =D14 -> 400000
A14: 182 1 01 02010 01 1000 110 | B14: Налог на доходы физических лиц с доходов, источником которых является налоговый агент, за исключением доходов, в отношении которых исчисление и уплата налога осуществляются в соответствии со статьями 227, 227-1 и 228 Налогового кодекса Российской Федерации | C14: 372000 | D14: 400000
A15: 100 1 03 00000 00 0000 000 | B15: Налоги на товары (работы, услуги) реализуемые на территории РФ | C15: =C16+C17+C18+C19 -> 1074000 | D15: =D16+D17+D18+D19 -> 1166000
A16: 100 1 03 02 23101 0000 110 | B16: Доходы от уплаты акцизов на дизельное топливо, зачисляемые в консолидированные бюджеты субъектов Российской Федерации | C16: 512420 | D16: 557830
A17: 100 1 03 02 24101 0000 110 | B17: Доходы от уплаты акцизов на моторные масла для дизельных и (или) карбюраторных (инжекторных) двигателей, зачисляемые в консолидированные бюджеты субъектов Российской Федерации | C17: 3500 | D17: 3710
A18: 100 1 03 02 25101 0000 110 | B18: Доходы от уплаты акцизов на автомобильный бензин, производимый на территории Российской Федерации, зачисляемые в консолидированные бюджеты субъектов Российской Федерации | C18: 625180 | D18: 673110
A19: 100 1 03 02 26101 0000 110 | B19: Доходы от уплаты акцизов на прямогонный бензин, производимый на территории Российской Федерации, зачисляемые в консолидированные бюджеты субъектов Российской Федерации | C19: -67100 | D19: -68650
A20: 182 1 06 00000 00 0000 000 | B20: Налоги на имущество | C20: =C22+C23 -> 3555000 | D20: =D22+D23 -> 3555000
A21: 182 1 06 01000 00 0000 000 | B21: Налог на имущество физических лиц, взимаемый по ставкам, применяемым к объектам налогообложения, расположенным в границах городских округов (сумма платежа (перерасчеты, недоимка и задолженность по соответствующему платежу, в том числе по отмененному) | C21: =C22 -> 1100000 | D21: =D22 -> 1100000
A22: 182 1 06 01030 10 1000 110 | B22: Налог на имущество физических лиц, взимаемый по ставкам, применяемым к объектам налогообложения, расположенным в границах сельских поселений | C22: 1100000 | D22: 1100000
A23: 182 1 06 06000 00 0000 110 | B23: Земельный налог | C23: =C24+C25 -> 2455000 | D23: =D24+D25 -> 2455000
A24: 182 1 06 06033 10 1000 110 | B24: Земельный налог с организаций, обладающих земельным участком, расположенным в границах сельских поселений (сумма платежа) | C24: 1300000 | D24: 1300000
A25: 182 1 06 06043 10 1000 110 | B25: Земельный налог с физических лиц, обладающих земельным участком, расположенным в границах сельских поселений (сумма платежа) | C25: 1155000 | D25: 1155000
A26: 240 1 08 00000 00 0000 000 | B26: Государственная пошлина | C26: =C27 -> 9000 | D26: =D27 -> 9000
A27: 240 1 08 04020 01 0000 110 | B27: Государственная пошлина за совершение нотариальных действий должностными лицами органов местного самоуправления, уполномоченными в соответствии с законодательными актами Российской Федерации на совершение нотариальных действий | C27: 9000 | D27: 9000
A28: 240 1 11 00000 00 0000 000 | B28: Доходы от использования имущества, находящегося в государственной и муниципальной собственности | C28: =C29 -> 700000 | D28: =D29 -> 700000
A29: 240 1 11 09045 10 0000 120 | B29: Прочие поступления от использования имущества, находящегося в собственности сельских поселений (за исключением имущества муниципальных бюджетных и автономных учреждений, а также имущества муниципальных унитарных предприятий, в том числе казенных | C29: 700000 | D29: 700000
A30: 000 2 00 00000 00 0000 000 | B30: Безвозмездные поступления | C30: =C31 -> 5700882 | D30: =D31 -> 3136469
A31: 240 2 02 00000 00 0000 000 | B31: Безвозмездные поступления от других бюджетов бюджетной системы Российской Федерации | C31: =SUM(C32:C34) -> 5700882 | D31: =SUM(D32:D34) -> 3136469
A32: 240 2 02 15001 10 0000 150 | B32: Дотации бюджетам поселений на выравнивание бюджетной обеспеченности | C32: 2575000 | D32: 0
A33: 240 2 02 35118 10 0000 150 | B33: Субвенции бюджетам сельских поселений на осуществление первичного воинского учета на территориях, где отсутствуют военные комиссариаты | C33: 306888 | D33: 317475
A34: 240 2 02 20041 10 0000 150 | B34: Субсидии бюджетам сельских поселений на строительство, модернизацию, ремонт и содержание автомобильных дорог общего пользования, в том числе дорог в поселениях (за исключением автомобильных дорог федерального значения) | C34: 2818994 | D34: 2818994
A35: ВСЕГО: | C35: =C12+C30 -> 11410882 | D35: =D12+D30 -> 8966469

Sheet Прил.4 Расходы бюджета 2023
A2: Приложение 4
A3: к решению Муниципального Совета
A4: Каменниковского сельского поселения
A5: № 68 от 22.12.2022 г.
B6: (в редакции от 21.12.2023 г. № 86)
A7: Расходы бюджета Каменниковского сельского поселения по разделам и подразделам функциональной классификации расходов бюджетов Российской Федерации на 2023 год
C8: руб.
A9: Р ПР | B9: Наименование | C9: 2023 год
A10: 01 00 | B10: Общегосударственные вопросы | C10: =SUM(C11:C16) -> 6480328.7
A11: 01 02 | B11: Функционирование высшего должностного лица субъекта Российской Федерации и местного самоуправления | C11: 1277940
A12: 01 03 | B12: Функционирование законодательных (представительных) органов государственной власти и представительных органов муниципальных образований | C12: 73700
A13: 01 04 | B13: Функционирование Правительства Российской Федерации, высших органов исполнительной власти субъектов Российской Федерации, местных администраций | C13: 3849508.7
A14: 01 06 | B14: Обеспечение деятельности финансовых органов и органов финансового (финансово-бюджетного ) надзора | C14: 155900
A15: 01 11 | B15: Резервные фонды | C15: 20000
A16: 01 13 | B16: Другие общегосударственные вопросы | C16: 1103280
A17: 02 00 | B17: Национальная оборона | C17: =C18 -> 293942
A18: 02 03 | B18: Мобилизационная и вневойсковая подготовка | C18: 293942
A19: 03 00 | B19: Национальная безопасность и правоохранительная деятельность | C19: =C20 -> 102810
A20: 03 10 | B20: Защита населения и территории от чрезвычайных ситуаций природного и техногенного характера, пожарная безопасность | C20: 102810
A21: 04 00 | B21: Национальная экономика | C21: =C22 -> 7757078.8
A22: 04 09 | B22: Дорожное хозяйство | C22: 7757078.8
A23: 05 00 | B23: Жилищно-коммунальное хозяйство | C23: =C24+C25+C26+C27 -> 83491415
A24: 05 01 | B24: Жилищное хозяйство | C24: 73265117
A25: 05 02 | B25: Коммунальное хозяйство | C25: =6100+506 -> 6606
A26: 05 03 | B26: Благоустройство | C26: 9602200.2
A27: 05 05 | B27: Другие вопросы в области жилищно-коммунального хозяйства | C27: 617491.29
A28: 07 00 | B28: Образование | C28: =C29 -> 180000
A29: 07 07 | B29: Молодежная политика и оздоровление детей | C29: 180000
A30: 08 00 | B30: Культура, кинематография | C30: =C31 -> 350000
A31: 08 01 | B31: Культура | C31: 350000
A32: 10 00 | B32: Социальная политика | C32: =C33 -> 98100
A33: 10 01 | B33: Пенсионное обеспечение | C33: =55000+43100 -> 98100
A34: 11 00 | B34: Физическая культура и спорт | C34: =C35 -> 80000
A35: 11 02 | B35: Массовый спорт | C35: 80000
A36: Всего | C36: =C10+C17+C19+C21+C23+C28+C30+C32+C34 -> 98833674

Sheet Прил.5 Расходы бюдж. 2024-2025
A2: Приложение 5
A3: к решению Муниципального Совета
A4: Каменниковского сельского поселения
A5: № 68 от 22.12.2022 г.
A6: (в редакции от 21.12.2023 г. № 86)
A7: Расходы бюджета Каменниковского сельского поселения по разделам и подразделам функциональной классификации расходов бюджетов Российской Федерации на плановый период 2024 и 2025 годов
D8: руб.
A9: Р ПР | B9: Наименование | C9: 2023 год | D9: 2024 год
A10: 01 00 | B10: Общегосударственные вопросы | C10: =SUM(C11:C14) -> 5124000 | D10: =SUM(D11:D14) -> 4317500
A11: 01 02 | B11: Функционирование высшего должностного лица субъекта Российской Федерации и местного самоуправления | C11: 963000 | D11: 963000
A12: 01 04 | B12: Функционирование Правительства Российской Федерации, высших органов исполнительной власти субъектов Российской Федерации, местных администраций | C12: 3576000 | D12: 3334500
A13: 01 11 | B13: Резервные фонды | C13: 20000 | D13: 20000
A14: 01 13 | B14: Другие общегосударственные вопросы | C14: 565000 | D14: 0
A15: 02 00 | B15: Национальная оборона | C15: =C16 -> 306888 | D15: =D16 -> 317475
A16: 02 03 | B16: Мобилизационная и вневойсковая подготовка | C16: 306888 | D16: 317475
A17: 03 00 | B17: Национальная безопасность и правоохранительная деятельность | C17: =C18 -> 120000 | D17: =D18 -> 0
A18: 03 10 | B18: Защита населения и территории от чрезвычайных ситуаций природного и техногенного характера, пожарная безопасность | C18: 120000 | D18: 0
A19: 04 00 | B19: Национальная экономика | C19: =C20 -> 3892994 | D19: =D20 -> 3984994
A20: 04 09 | B20: Дорожное хозяйство | C20: 3892994 | D20: 3984994
A21: 05 00 | B21: Жилищно-коммунальное хозяйство | C21: =C22+C23 -> 1704875 | D21: =D22+D23 -> 0
A22: 05 03 | B22: Благоустройство | C22: 1254875 | D22: 0
A23: 05 05 | B23: Другие вопросы в области жилищно-коммунального хозяйства | C23: 450000 | D23: 0
A24: 10 00 | B24: Социальная политика | C24: =C25 -> 55000 | D24: =D25 -> 55000
A25: 10 01 | B25: Пенсионное обеспечение | C25: 55000 | D25: 55000
A26: Итого: | C26: =C10+C15+C19+C21+C24+C17 -> 11203757 | D26: =D10+D15+D19+D21+D24+D17 -> 8674969
A27: Условно утвержденные расходы: | C27: 207125 | D27: 291500
A28: Всего: | C28: =C26+C27 -> 11410882 | D28: =D26+D27 -> 8966469

Sheet Прил. 6 Расходы бюджета 2023
A2: Приложение 6
A3: к решению Муниципального Совета
A4: Каменниковского сельского поселения
A5: № 68 от 22.12.2022 г.
A6: (в редакции от 21.12.2023 г. № 86)
A8: Распределение расходов бюджета Каменниковского сельского поселения по разделам, подразделам, целевым статьям, видам расходов функциональной классификации на 2023 год
F9: руб.
A10: Наименование | B10: Раздел | C10: ПР | D10: КЦСР | E10: КВР | F10: 2023 год
A11: Общегосударственные вопросы | B11: 01 | F11: =F12+F26+F33+F43+F52+F57 -> 6480328.7
A12: Функционирование высшего должностного лица субъекта РФ и органа местного самоуправления | C12: 02 | F12: =F13+F18 -> 1277940
A13: Непрограмные расходы органов местного самоуправления | D13: 50 0 00 00000 | F13: =F14 -> 1105500
A14: Обеспечение функционирования органов местного самоуправления | D14: 50 1 00 00000 | F14: =F15 -> 1105500
A15: Обеспечение функционирования главы муниципального образования | D15: 50 1 00 20540 | F15: =F16+F17 -> 1105500
A16: Фонд оплаты труда государственных (муниципальных) органов | E16: 121 | F16: 849000
A17: Взнос по обязательному социальному страхованию на выплаты денежного содержания и иные выплаты работникам государственных (муниципальных) органов | E17: 129 | F17: 256500
A18: Муниципальная программа "Эффективная власть в Каменниковском сельском поселении Рыбинского муниципального района" | D18: 17 0 00 00000 | F18: =F19 -> 172440
A19: Развитие муниципальной службы в Каменниковском сельском поселении | D19: 17 1 00 00000 | F19: =F20+F23 -> 172440
A20: Поощрение муниципальных управленческих команд Рыбинского района за достижение плановых значений показателей | D20: 17 1 00 10760 | F20: =F21+F22 -> 146400
A21: Фонд оплаты труда государственных (муниципальных) органов | E21: 121 | F21: 112442.4
A22: Взнос по обязательному социальному страхованию на выплаты денежного содержания и иные выплаты работникам государственных (муниципальных) органов | E22: 129 | F22: 33957.6
A23: Поощрение муниципальных управленческих команд за достижение показателей деятельности органов исполнительной власти | D23: 17 1 00 55490 | F23: =F24+F25 -> 26040
A24: Фонд оплаты труда государственных (муниципальных) органов | E24: 121 | F24: 20000
A25: Взнос по обязательному социальному страхованию на выплаты денежного содержания и иные выплаты работникам государственных (муниципальных) органов | E25: 129 | F25: 6040
A26: Функционирование законодательных (представительных) органов государственной власти и представительных органов муниципальных образований | C26: 03 | F26: =F27 -> 73700
A27: Непрограмные расходы органов местного самоуправления | D27: 50 0 00 00000 | F27: =F28 -> 73700
A28: Обеспечение функционирования органов местного самоуправления | D28: 50 1 00 00000 | F28: =F29 -> 73700
A29: Обеспечение функционирования депутатов представительного органа муниципального образования | D29: 50 1 00 20490 | F29: =F30+F31+F32 -> 73700
A30: Иные выплаты, за исключением фонда оплаты труда государственных (муниципальных) органов, лицам, привлекаемым согласно законодательству для выполнения отдельных полномочий | E30: 123 | F30: 24000
A31: Взнос по обязательному социальному страхованию на выплаты денежного содержания и иные выплаты работникам государственных (муниципальных) органов | E31: 129 | F31: 17700
A32: Уплата иных платежей | E32: 853 | F32: 32000
A33: Функционирование Правительства РФ, высших органов исполнительной власти субъектов Российской Федерации, местных администраций | C33: 04 | F33: =F34 -> 3849508.7
A34: Непрограмные расходы органов местного самоуправления | D34: 50 0 00 00000 | F34: =F35 -> 3849508.7
A35: Обеспечение функционирования органов местного самоуправления | D35: 50 1 00 00000 | F35: =F36 -> 3849508.7
A36: Обеспечение функционирования центрального аппарата | D36: 50 1 00 20550 | F36: =F37+F38+F39+F40+F41+F42 -> 3849508.7
A37: Фонд оплаты труда государственных (муниципальных) органов и взносы по обязательному социальному страхованию | E37: 121 | F37: 2873198.4
A38: Иные выплаты персоналу государственных (муниципальных) органов, за исключением фонда оплаты труда | E38: 122 | F38: 4100
A39: Взнос по обязательному социальному страхованию на выплаты денежного содержания и иные выплаты работникам государственных (муниципальных) органов | E39: 129 | F39: 880301.63
A40: Прочая закупка товаров, работ и услуг | E40: 244 | F40: 86708.71
A41: Уплата прочих налогов, сборов и иных платежей | E41: 852 | F41: 4600
A42: Уплата иных платежей | E42: 853 | F42: 600
...

Sheet Прил. 7 Расходы бюдж.2024-2025
A2: Приложение 7
A3: к решению Муниципального Совета
A4: Каменниковского сельского поселения
A5: № 68 от 22.12.2022 г.
A6: (в редакции от 21.12.2023 г. № 86)
A9: Распределение расходов бюджета Каменниковского сельского поселения по разделам, подразделам, целевым статьям, видам расходов функциональной классификации на плановый период 2024 и 2025 годов
G10: руб.
A11: Наименование | B11: Раздел | C11: ПР | D11: КЦСР | E11: КВР | F11: 2024 год | G11: 2025 год
A12: Общегосударственные вопросы | B12: 01 | F12: =F15+F19+F26+F30 -> 5124000 | G12: =G15+G19+G26+G30 -> 4317500
A13: Непрограмные расходы органов местного самоуправления | D13: 50 0 00 00000 | F13: =F14+F27 -> 4559000 | G13: =G14+G27 -> 4317500
A14: Обеспечение функционирования органов местного самоуправления | D14: 50 1 00 00000 | F14: =F16+F20 -> 4539000 | G14: =G16+G20 -> 4297500
A15: Функционирование высшего должностного лица субъекта РФ и органа местного самоуправления | C15: 02 | F15: =F16 -> 963000 | G15: =G16 -> 963000
A16: Обеспечение функционирования главы муниципального образования | D16: 50 1 00 20540 | F16: =F17+F18 -> 963000 | G16: =G17+G18 -> 963000
A17: Фонд оплаты труда государственных (муниципальных) органов | E17: 121 | F17: 740000 | G17: 740000
A18: Взнос по обязательному социальному страхованию на выплаты денежного содержания и иные выплаты работникам государственных (муниципальных) органов | E18: 129 | F18: 223000 | G18: 223000
A19: Функционирование Правительства РФ, высших органов исполнительной власти субъектов Российской Федерации, местных администраций | C19: 04 | F19: =F20 -> 3576000 | G19: =G20 -> 3334500
A20: Обеспечение функционирования центрального аппарата | D20: 50 1 00 20550 | F20: =F21+F22+F23+F24+F25 -> 3576000 | G20: =G21+G22+G23+G24+G25 -> 3334500
A21: Фонд оплаты труда государственных (муниципальных) органов и взносы по обязательному социальному страхованию | E21: 121 | F21: 2700000 | G21: 2561367
A22: Иные выплаты персоналу государственных (муниципальных) органов, за исключением фонда оплаты труда | E22: 122 | F22: 6000 | G22: 0
A23: Взнос по обязательному социальному страхованию на выплаты денежного содержания и иные выплаты работникам государственных (муниципальных) органов | E23: 129 | F23: 815000 | G23: 773133
A24: Прочая закупка товаров, работ и услуг | E24: 244 | F24: 45000 | G24: 0
A25: Уплата прочих налогов, сборов и иных платежей | E25: 852 | F25: 10000 | G25: 0
A26: Резервные фонды | C26: 11 | F26: =F28 -> 20000 | G26: =G28 -> 20000
A27: Непрограмные расходы органов местного самоуправления не предусмотренные иными целевыми статьями расходов бюджетов поселений, по соответствующим направлениям расходов | D27: 50 2 00 00000 | F27: =F28 -> 20000 | G27: =G28 -> 20000
A28: Резервный фонд местной администрации | D28: 50 2 00 20540 | F28: =F29 -> 20000 | G28: =G29 -> 20000
A29: Резервные средства | E29: 870 | F29: 20000 | G29: 20000
A30: Другие общегосударственные вопросы | C30: 13 | F30: =F31+F37 -> 565000 | G30: =G31+G37 -> 0
A31: Муниципальная программа "Эффективная власть в Каменниковском сельском поселении Рыбинского муниципального района" | D31: 17 0 00 00000 | F31: =F32 -> 505000 | G31: =G32 -> 0
A32: Развитие муниципальной службы в Каменниковском сельском поселении | D32: 17 1 00 00000 | F32: =F33 -> 505000 | G32: =G33 -> 0
A33: Развитие материально-технической базы | D33: 17 1 00 20060 | F33: =F34+F35+F36 -> 505000 | G33: =G34+G35+G36 -> 0
A34: Закупка товаров, работ, услуг в сфере информационно-коммуникационных технологий | E34: 242 | F34: 110000 | G34: 0
A35: Прочая закупка товаров, работ и услуг | E35: 244 | F35: 330000 | G35: 0
A36: Закупка энергетических ресурсов | E36: 247 | F36: 65000 | G36: 0
A37: Муниципальная программа "Управление муниципальным имуществом Каменниковского сельского поселения Рыбинского муниципального района" | D37: 18 0 00 00000 | F37: =F38 -> 60000 | G37: =G38 -> 0
A38: Мероприятия по управлению и распоряжению имуществом Каменниковского сельского поселения | D38: 18 1 00 00000 | F38: =F39 -> 60000 | G38: =G39 -> 0
A39: Мероприятия по управлению и распоряжению имуществом, находящимся в муниципальной собственности поселения | D39: 18 1 00 20430 | F39: =F40 -> 60000 | G39: =G40 -> 0
A40: Прочая закупка товаров, работ и услуг | E40: 244 | F40: 60000 | G40: 0
A41: Национальная оборона | B41: 02 | F41: =F42 -> 306888 | G41: =G42 -> 317475
A42: Мобилизационная и вневойсковая подготовка | C42: 03 | F42: =F46+F47 -> 306888 | G42: =G46+G47 -> 317475
A43: Непрограмные расходы органов местного самоуправления | D43: 50 0 00 00000 | F43: =F44 -> 306888 | G43: =G44 -> 317475
...

Sheet Прил.8 Перечень гл. расп.
A2: Приложение 8
A3: к решению Муниципального Совета
A4: Каменниковского сельского поселения
A5: № 68 от 22.12.2022 г.
B6: (в редакции от 21.12.2023 г. № 86)
A7: ПЕРЕЧЕНЬ
A8: Главных распорядителей бюджетных средств бюджета Каменниковского сельского поселения на 2023 год и на плановый период 2024 и 2025 годов
A10: Наименование | B10: Код ведомственной классификации
A11: Администрация Каменниковского сельского поселения | B11: 240
A12: Муниципальный Совет Каменниковского сельского поселения | B12: 241

Sheet Прил.9 Ведомственная
A2: Приложение 9
A3: к решению Муниципального Совета
A4: Каменниковского сельского поселения
A5: № 68 от 22.12.2022 г.
A6: (в редакции от 21.12.2023 г. № 86)
A7: Ведомственная структура расходов бюджета Каменниковского сельского поселения на 2023 год и на плановый период 2024 и 2025 годов
E8: руб.
A9: Код ГРБС | B9: Наименование главного распорядителя бюджетных средств | C9: 2023 год | D9: 2024 год | E9: 2025 год
A10: 240 | B10: Администрация Каменниковского сельского поселения | C10: ='Прил. 6 Расходы бюджета 2023'!F180 -> 98833674 | D10: 11410882 | E10: 8966469
A11: 241 | B11: Муниципальный Совет Каменниковского сельского поселения | C11: 73700 | D11: 0 | E11: 0
A12: Итого: | C12: =C10-C11 -> 98759974 | D12: =D10+D11 -> 11410882 | E12: =E10+E11 -> 8966469

Sheet Прил.10 Источники 2023
A2: Приложение 10
A3: к решению Муниципального Совета
A4: Каменниковского сельского поселения
A5: № 68 от 22.12.2022 г.
A6: (в редакции от 21.12.2023 г. № 86)
A7: Источники внутреннего финансирования дефицита бюджета Каменниковского сельского поселения на 2023 год
A10: Наименование | B10: Код бюджетной классификации | C10: 2023 год | D10: 2022 год
A11: Изменение остатков средств на счетах по учету средств бюджета | B11: 240 01 05 00 00 00 0000 000 | C11: =C14 -> 122742.76 | D11: =D12-D13 -> #REF!
A12: Увеличение прочих остатков денежных средств бюджетов сельских поселений | B12: 240 01 05 02 01 10 0000 510 | C12: ='Прил.2 Доходы бюджета 2023'!C46 -> 98710931 | D12: ='Прил.2 Доходы бюджета 2023'!#REF! -> #REF!
A13: Уменьшение прочих остатков денежных средств бюджетов сельских поселений | B13: 240 01 05 02 01 10 0000 610 | C13: ='Прил.4 Расходы бюджета 2023'!C36 -> 98833674 | D13: ='Прил.4 Расходы бюджета 2023'!#REF! -> #REF!
A14: ИТОГО источников внутреннего финансирования | C14: =-C12+C13 -> 122742.76 | D14: =D11 -> #REF!

Sheet Прил.11 Источники 2024-2025
A2: Приложение 11
A3: к решению Муниципального Совета
A4: Каменниковского сельского поселения
A5: № 68 от 22.12.2022 г.
A6: (в редакции от 21.12.2023 г. № 86)
A7: Источники внутреннего финансирования дефицита бюджета Каменниковского сельского поселения на плановый период 2024 и 2025 годов
E9: руб.
A10: Наименование | B10: Код бюджетной классификации | C10: 2022 год | D10: 2024 год | E10: 2025 год
A11: Изменение остатков средств на счетах по учету средств бюджета | B11: 240 01 05 00 00 00 0000 000 | C11: =C12-C13 -> #REF! | D11: =D12-D13 -> 0 | E11: =E12-E13 -> 0
A12: Увеличение прочих остатков денежных средств бюджетов сельских поселений | B12: 240 01 05 02 01 10 0000 510 | C12: ='Прил.2 Доходы бюджета 2023'!#REF! -> #REF! | D12: ='Прил.3 Доходы бюджета 2024-2025'!C35 -> 11410882 | E12: ='Прил.3 Доходы бюджета 2024-2025'!D35 -> 8966469
A13: Уменьшение прочих остатков денежных средств бюджетов сельских поселений | B13: 240 01 05 02 01 10 0000 610 | C13: ='Прил.4 Расходы бюджета 2023'!#REF! -> #REF! | D13: ='Прил. 7 Расходы бюдж.2024-2025'!F91 -> 11410882 | E13: ='Прил. 7 Расходы бюдж.2024-2025'!G91 -> 8966469
A14: ИТОГО источников внутреннего финансирования | C14: =C11 -> #REF! | D14: =D11 -> 0 | E14: =E11 -> 0

Sheet Приложение 12 МБТ из субъектов
A2: Приложение 12
A3: к решению Муниципального Совета
A4: Каменниковского сельского поселения
A5: № 68 от 22.12.2022 г.
C6: (в редакции от 21.12.2023 г. № 86)
A7: Объем межбюджетных транфертов, получаемых из других бюджетов бюджетной системы Российской Федерации на 2023 год и на плановый период 2024 и 2025 годов
E9: руб.
A10: Код бюджетной классификации РФ | B10: Наименование доходов | C10: 2023 год | D10: 2024 год | E10: 2025 год
A12: Итого: | C12: =SUM(C13:C21) -> 92352549 | D12: =SUM(D13:D21) -> 5700882 | E12: =SUM(E13:E21) -> 3136469
A13: 240 2 02 15001 10 0000 150 | B13: Дотации бюджетам поселений на выравнивание бюджетной обеспеченности | C13: 7466000 | D13: 2575000 | E13: 0
A14: 240 2 02 20041 10 0000 150 | B14: Субсидии бюджетам сельских поселений на строительство, модернизацию, ремонт и содержание автомобильных дорог общего пользования, в том числе дорог в поселениях (за исключением автомобильных дорог федерального значения) | C14: =2818994+4300000-10635-774923 -> 6333436 | D14: 2818994 | E14: 2818994
A15: 240 2 02 20299 10 0000 150 | B15: Субсидии бюджетам сельских поселений на обеспечение мероприятий по переселению граждан из аварийного жилищного фонда, в том числе переселению граждан из аварийного жилищного фонда с учетом необходимости развития малоэтажного жилищного строительства, за счет средств, поступивших от государственной корпорации - Фонда содействия реформированию жилищно-коммунального хозяйства | C15: 69529320 | D15: 0 | E15: 0
A16: 240 2 02 20302 10 0000 150 | B16: Субсидии бюджетам сельских поселений на обеспечение мероприятий по переселению граждан из аварийного жилищного фонда, в том числе переселению граждан из аварийного жилищного фонда с учетом необходимости развития малоэтажного жилищного строительства, за счет средств бюджетов | C16: 2752203 | D16: 0 | E16: 0
A17: 240 2 02 25555 10 0000 150 | B17: Субсидии бюджетам сельских поселений на поддержку государственных программ субъектов Российской Федерации и муниципальных программ формирования современной городской среды | C17: =5012039+315969 -> 5328008 | D17: 0 | E17: 0
A18: 240 2 02 35118 10 0000 150 | B18: Субвенции бюджетам сельских поселений на осуществление первичного воинского учета на территориях, где отсутствуют военные комиссариаты | C18: 293942 | D18: 306888 | E18: 317475
A19: 240 2 02 40014 10 0000 150 | B19: Межбюджетные трансферты, передаваемые бюджетам сельских поселений из бюджетов муниципальных районов на осуществление части полномочий по решению вопросов местного значения в соответствии с заключенными соглашениями | C19: 300000 | D19: 0 | E19: 0
A20: 240 2 02 19999 10 1004 150 | B20: Прочие дотации бюджетам сельских поселений (Дотация на реализацию мероприятий, предусмотренных нормативными правовыми актами органов государственной власти Ярославской области) | C20: 177200 | D20: 0 | E20: 0
A21: 240 2 02 49999 10 4016 150 | B21: Прочие межбюджетные трансферты, передаваемые бюджетам сельских поселений (Межбюджетные трансферты на поощрение муниципальных управленческих команд за достижение показателей деятельности органов исполнительной власти) | C21: 172440 | D21: 0 | E21: 0

Sheet Приложение 13 МБТ
A2: Приложение 13
A3: к решению Муниципального Совета
A4: Каменниковского сельского поселения
A5: № 68 от 22.12.2022 г.
G6: (в редакции от 21.12.2023 г. № 86)
E8: Межбюджетные трансферты бюджету Рыбинского муниципального района Ярославской области муниципального района на 2023 год и на плановый период 2024 и 2025 годов
E10: Код ГРБС | F10: Наименование | G10: 2023 год | I10: 2024 год | J10: 2025 год
B11: 3617300 | E11: Межбюджетные трансферты, передаваемые бюджету муниципального района из бюджета поселения на осуществление части полномочий по решению вопросов местного значения в соответствии с заключенными соглашениями | G11: =G12+G13+G14+G16+G17 -> 6375800.7 | H11: =H12+H13+H14+H16 -> 0 | I11: =I12+I13+I14+I16 -> 0 | J11: =J12+J13+J14+J16 -> 0
B12: 3617300 | C12: 30300 | D12: 540 | E12: 140 | F12: Управление ЖКХ, транспорта и связи администрации РМР | G12: 5938336.4 | I12: ='[1]Прил. 6 Расходы бюджета'!H104 -> 0 | J12: ='[1]Прил. 6 Расходы бюджета'!I104 -> 0
B13: 3617300 | C13: 30400 | D13: 540 | E13: 130 | F13: Управление экономики и финансов администрации РМР | G13: 115900 | I13: ='[1]Прил. 6 Расходы бюджета'!H32 -> 0 | J13: ='[1]Прил. 6 Расходы бюджета'!I32 -> 0
B14: 3617300 | C14: 30600 | D14: 540 | E14: 127 | F14: Управление по культуре, молодежи и спорту администрации РМР | G14: 180000 | I14: ='[1]Прил. 6 Расходы бюджета'!H119 -> 0 | J14: ='[1]Прил. 6 Расходы бюджета'!I119 -> 0
F15: городской округ г.Переславль-ЗалесскийРостовский муниципальный район Угличский муниципальный район Тутаевский муниципальный район Большесельский муниципальный район Борисоглебский муниципальный районБрейтовский муниципальный районГаврилов-Ямский муниципальный районДаниловский муниципальный районЛюбимский муниципальный районМышкинский муниципальный районНекоузский муниципальный районНекрасовский муниципальный районПервомайский муниципальный районПошехонский муниципальный районРыбинский муниципальный район Ростовский муниципальный район Угличский муниципальный район Тутаевский муниципальный район Большесельский муниципальный район Борисоглебский муниципальный районБрейтовский муниципальный районГаврилов-Ямский муниципальный районДаниловский муниципальный районЛюбимский муниципальный районМышкинский муниципальный районНекоузский муниципальный районНекрасовский муниципальный районПервомайский муниципальный районПереславский муниципальный районПошехонский муниципальный районНеуказанный территориальный признак | G15: 709750000 | I15: 709750000 | J15: 709750000
E16: 195 | F16: Контрольно счетная палата РМР | G16: 40000 | I16: ='[1]Прил. 6 Расходы бюджета'!H34 -> 0 | J16: ='[1]Прил. 6 Расходы бюджета'!I34 -> 0
E17: 120 | F17: Администрация Рыбинского муниципального района | G17: 101564.29 | I17: 0 | J17: 0
