Workbook

Sheet Прил.1 Нормативы зачислений
A2: Приложение 1
A3: к решению Муниципального Совета
A4: Каменниковского сельского поселения
A5: № 87 от 21.12.2023 г.
B6: (в редакции решения № 112 от 24.12.2024 г.)
A8: Нормативы зачисления налоговых и неналоговых доходов в бюджет Каменниковского сельского поселения на 2024 год и на плановый период 2025 и 2026 годов
A9: Наименование | B9: Коды бюджетной классификации Российской Федерации | C9: Норматив зачисления
C10: %
A11: Прочие доходы от компенсации затрат бюджетов сельских поселений | B11: 240 1 13 02995 10 0000 130 | C11: 100
A12: Возмещение ущерба при возникновении страховых случаев, когда выгодоприобретателями выступают получатели средств бюджета сельского поселения | B12: 240 1 16 10031 10 0000 140 | C12: 100
A13: Невыясненные поступления, зачисляемые в бюджеты сельских поселений | B13: 240 1 17 01050 10 0000 180 | C13: 100
A14: Прочие неналоговые доходы бюджетов сельских поселений | B14: 240 1 17 05050 10 0000 180 | C14: 100

Sheet Прил.2 Доходы бюджета 2024
A2: Приложение 2
A3: к решению Муниципального Совета
A4: Каменниковского сельского поселения
A5: № 87 от 21.12.2023 г.
B6: (в редакции решения № 112 от 24.12.2024 г.)
A7: Прогнозируемые доходы бюджета Каменниковского сельского поселения на 2024 год в соответствии с классификацией доходов бюджетов Российской Федерации
C9: руб.
A10: Код бюджетной классификации РФ | B10: Наименование доходов | C10: 2024 год
A12: 000 1 00 00000 00 0000 000 | B12: Налоговые и неналоговые доходы | C12: =C13+C17+C23+C28+C30+C25+C15 -> 6728845
A13: 182 1 01 00000 00 0000 000 | B13: Налоги на прибыль, доходы | C13: =C14 -> 430000
A14: 182 1 01 02010 01 1000 110 | B14: Налог на доходы физических лиц с доходов, источником которых является налоговый агент, за исключением доходов, в отношении которых исчисление и уплата налога осуществляются в соответствии со статьями 227, 227.1 и 228 Налогового кодекса Российской Федерации (сумма платежа (перерасчеты, недоимка и задолженность по соответствующему платежу, в том числе по отмененному) | C14: 430000
A15: 182 1 05 00000 00 0000 000 | B15: Единый сельскохозяйственный налог | C15: =C16 -> 18145
A16: 182 1 05 03010 01 1000 110 | B16: Единый сельскохозяйственный налог (сумма платежа (перерасчеты, недоимка и задолженность по соответствующему платежу, в том числе по отмененному) | C16: 18145
A17: 182 1 06 00000 00 0000 000 | B17: Налоги на имущество | C17: =C18+C20 -> 4623000
A18: 182 1 06 01000 00 0000 000 | B18: Налог на имущество физических лиц | C18: =C19 -> 1295000
A19: 182 1 06 01030 10 1000 110 | B19: Налог на имущество физических лиц, взимаемый по ставкам, применяемым к объектам налогообложения, расположенным в границах сельских поселений (сумма платежа (перерасчеты, недоимка и задолженность по соответствующему платежу, в том числе по отмененному) | C19: 1295000
A20: 182 1 06 06000 00 0000 000 | B20: Земельный налог | C20: =C21+C22 -> 3328000
A21: 182 1 06 06033 10 1000 110 | B21: Земельный налог с организаций, обладающих земельным участком, расположенным в границах сельских поселений (сумма платежа (перерасчеты, недоимка и задолженность по соответствующему платежу, в том числе по отмененному) | C21: 1873000
A22: 182 1 06 06043 10 1000 110 | B22: Земельный налог с физических лиц, обладающих земельным участком, расположенным в границах сельских поселений (сумма платежа (перерасчеты, недоимка и задолженность по соответствующему платежу, в том числе по отмененному) | C22: 1455000
A23: 240 1 08 00000 00 0000 000 | B23: Государственная пошлина | C23: =C24 -> 5700
A24: 240 1 08 04020 01 0000 110 | B24: Государственная пошлина за совершение нотариальных действий должностными лицами органов местного самоуправления, уполномоченными в соответствии с законодательными актами Российской Федерации на совершение нотариальных действий | C24: 5700
A25: 240 1 16 00000 00 0000 000 | B25: Административные штрафы | C25: =SUM(C26:C27) -> 97000
A26: 120 1 16 02020 02 0000 140 | B26: Административные штрафы, установленные законами субъектов Российской Федерации об административных правонарушениях, за нарушение муниципальных правовых актов | C26: 35000
A27: 931 1 16 02020 02 0000 140 | B27: Административные штрафы, установленные законами субъектов Российской Федерации об административных правонарушениях, за нарушение муниципальных правовых актов | C27: 62000
A28: 240 1 11 00000 00 0000 000 | B28: Доходы от использования имущества, находящегося в государственной и муниципальной собственности | C28: =C29 -> 755000
A29: 240 1 11 09045 10 0000 120 | B29: Прочие поступления от использования имущества, находящегося в собственности сельских поселений (за исключением имущества муниципальных бюджетных и автономных учреждений, а также имущества муниципальных унитарных предприятий, в том числе казенных | C29: 755000
A30: 240 1 14 00000 00 0000 000 | B30: Доходы от продажи материальных и нематериальных активов | C30: =C31 -> 800000
A31: 240 1 14 02053 10 0000 410 | B31: Доходы от реализации иного имущества, находящегося в собственности сельских поселений (за исключением имущества муниципальных бюджетных и автономных учреждений, а также имущества муниципальных унитарных предприятий, в том числе казенных), в части реализации основных средств по указанному имуществу | C31: 800000
A32: 240 2 02 00000 00 0000 000 | B32: Безвозмездные поступления от других бюджетов бюджетной системы Российской Федерации | C32: =SUM(C33:C42) -> 91109291
A33: 240 2 02 15001 10 0000 150 | B33: Дотации бюджетам сельских поселений на выравнивание бюджетной обеспеченности из бюджета субъекта Российской Федерации | C33: 7602000
A34: 240 2 02 35118 10 0000 150 | B34: Субвенции бюджетам сельских поселений на осуществление первичного воинского учета на территориях, где отсутствуют военные комиссариаты | C34: 355756
A35: 240 2 02 20299 10 0000 150 | B35: Субсидии бюджетам сельских поселений на обеспечение мероприятий по переселению граждан из аварийного жилищного фонда, в том числе переселению граждан из аварийного жилищного фонда с учетом необходимости развития малоэтажного жилищного строительства, за счет средств, поступивших от публично-правовой компании "Фонд развития территорий" | C35: 74732198
A36: 240 2 02 20302 10 0000 150 | B36: Субсидии бюджетам сельских поселений на обеспечение мероприятий по переселению граждан из аварийного жилищного фонда, в том числе переселению граждан из аварийного жилищного фонда с учетом необходимости развития малоэтажного жилищного строительства, за счет средств бюджетов | C36: 2964000
A37: 240 2 02 40014 10 0000 150 | B37: Межбюджетные трансферты, передаваемые бюджетам сельских поселений из бюджетов муниципальных районов на осуществление части полномочий по решению вопросов местного значения в соответствии с заключенными соглашениями | C37: 1336878
A38: 240 2 02 49999 10 0000 150 | B38: Прочие межбюджетные трансферты, передаваемые бюджетам сельских поселений | C38: 890000
A39: 240 2 02 49999 10 4010 150 | B39: Прочие межбюджетные трансферты, передаваемые бюджетам сельских поселений (Межбюджетные трансферты на благоустройство дворовых территорий и обустройство территорий для выгула животных) | C39: 2187500
A40: 240 2 02 29999 10 2032 150 | B40: Прочие субсидии бюджетам сельским поселений (Субсидия на реализацию мероприятий инициативного бюджетирования на территории Ярославской области (поддержка местных инициатив)) | C40: 950000
A41: 240 2 02 19999 10 1004 150 | B41: Прочие дотации бюджетам сельских поселений (Дотация на реализацию мероприятий, предусмотренных нормативными правовыми актами органов государственной власти Ярославской области) | C41: 21300
A42: 240 2 02 49999 10 4016 150 | B42: Прочие межбюджетные трансферты, передаваемые бюджетам сельских поселений (Межбюджетные трансферты на поощрение муниципальных управленческих команд за достижение показателей деятельности органов исполнительной власти) | C42: 69658.76
A43: ВСЕГО ДОХОДОВ: | C43: =C32+C12 -> 97838136

Sheet Прил.3 Доходы бюджета 2025-2026
A2: Приложение 3
A3: к решению Муниципального Совета
A4: Каменниковского сельского поселения
A5: № 87 от 21.12.2023 г.
A6: (в редакции решения № 112 от 24.12.2024 г.)
A7: Прогнозируемые доходы бюджета Каменниковского сельского поселения на плановый период 2024 и 2025 годов в соответствии с классификацией доходов бюджетов Российской Федерации
D9: руб.
A10: Код бюджетной классификации РФ | B10: Наименование доходов | C10: 2024 год | D10: 2025 год
A12: 000 1 00 00000 00 0000 000 | B12: Налоговые и неналоговые доходы | C12: =C13+C15+C21+C23 -> 4457000 | D12: =D13+D15+D21+D23 -> 4497000
A13: 182 1 01 00000 00 0000 000 | B13: Налоги на прибыль, доходы | C13: =C14 -> 410000 | D13: =D14 -> 450000
A14: 182 1 01 02010 01 1000 110 | B14: Налог на доходы физических лиц с доходов, источником которых является налоговый агент, за исключением доходов, в отношении которых исчисление и уплата налога осуществляются в соответствии со статьями 227, 227.1 и 228 Налогового кодекса Российской Федерации (сумма платежа (перерасчеты, недоимка и задолженность по соответствующему платежу, в том числе по отмененному) | C14: 410000 | D14: 450000
A15: 182 1 06 00000 00 0000 000 | B15: Налоги на имущество | C15: =C16+C18 -> 3390000 | D15: =D16+D18 -> 3400000
A16: 182 1 06 01000 00 0000 000 | B16: Налог на имущество физических лиц | C16: =C17 -> 1190000 | D16: =D17 -> 1200000
A17: 182 1 06 01030 10 1000 110 | B17: Налог на имущество физических лиц, взимаемый по ставкам, применяемым к объектам налогообложения, расположенным в границах сельских поселений (сумма платежа (перерасчеты, недоимка и задолженность по соответствующему платежу, в том числе по отмененному) | C17: 1190000 | D17: 1200000
A18: 182 1 06 06000 00 0000 110 | B18: Земельный налог | C18: =C19+C20 -> 2200000 | D18: =D19+D20 -> 2200000
A19: 182 1 06 06033 10 1000 110 | B19: Земельный налог с организаций, обладающих земельным участком, расположенным в границах сельских поселений (сумма платежа) | C19: 1100000 | D19: 1100000
A20: 182 1 06 06043 10 1000 110 | B20: Земельный налог с физических лиц, обладающих земельным участком, расположенным в границах сельских поселений (сумма платежа) | C20: 1100000 | D20: 1100000
A21: 240 1 08 00000 00 0000 000 | B21: Государственная пошлина | C21: =C22 -> 7000 | D21: =D22 -> 7000
A22: 240 1 08 04020 01 0000 110 | B22: Государственная пошлина за совершение нотариальных действий должностными лицами органов местного самоуправления, уполномоченными в соответствии с законодательными актами Российской Федерации на совершение нотариальных действий | C22: 7000 | D22: 7000
A23: 240 1 11 00000 00 0000 000 | B23: Доходы от использования имущества, находящегося в государственной и муниципальной собственности | C23: =C24 -> 650000 | D23: =D24 -> 640000
A24: 240 1 11 09045 10 0000 120 | B24: Прочие поступления от использования имущества, находящегося в собственности сельских поселений (за исключением имущества муниципальных бюджетных и автономных учреждений, а также имущества муниципальных унитарных предприятий, в том числе казенных | C24: 650000 | D24: 640000
A25: 000 2 00 00000 00 0000 000 | B25: Безвозмездные поступления | C25: =C26+C27 -> 2442171 | D25: =D26+D27 -> 425644
A26: 240 2 02 15001 10 0000 150 | B26: Дотации бюджетам сельских поселений на выравнивание бюджетной обеспеченности | C26: 2052000 | D26: 0
A27: 240 2 02 35118 10 0000 150 | B27: Субвенции бюджетам сельских поселений на осуществление первичного воинского учета на территориях, где отсутствуют военные комиссариаты | C27: 390171 | D27: 425644
A28: ВСЕГО: | C28: =C25+C12 -> 6899171 | D28: =D25+D12 -> 4922644

Sheet Прил.4 Расходы бюджета 2024
A2: Приложение 4
A3: к решению Муниципального Совета
A4: Каменниковского сельского поселения
A5: № 87 от 21.12.2023 г.
B6: (в редакции решения № 112 от 24.12.2024 г.)
A7: Расходы бюджета Каменниковского сельского поселения по разделам и подразделам функциональной классификации расходов бюджетов Российской Федерации на 2024 год
C8: руб.
A9: Р ПР | B9: Наименование | C9: 2024 год
A10: 01 00 | B10: Общегосударственные вопросы | C10: =SUM(C11:C16) -> 7173606.6
A11: 01 02 | B11: Функционирование высшего должностного лица субъекта Российской Федерации и муниципального образования | C11: 1334658.8
A12: 01 03 | B12: Функционирование законодательных (представительных) органов государственной власти и представительных органов муниципальных образований | C12: 20000
A13: 01 04 | B13: Функционирование Правительства Российской Федерации, высших исполнительных органов государственной власти субъектов Российской Федерации, местных администраций | C13: 4261687.5
A14: 01 06 | B14: Обеспечение деятельности финансовых, налоговых и таможенных органов и органов финансового (финансово-бюджетного) надзора | C14: 176347
A15: 01 11 | B15: Резервные фонды | C15: 20000
A16: 01 13 | B16: Другие общегосударственные вопросы | C16: 1360913.3
A17: 02 00 | B17: Национальная оборона | C17: =C18 -> 355756
A18: 02 03 | B18: Мобилизационная и вневойсковая подготовка | C18: 355756
A19: 03 00 | B19: Национальная безопасность и правоохранительная деятельность | C19: =C20 -> 254000
A20: 03 10 | B20: Защита населения и территории от чрезвычайных ситуаций природного и техногенного характера, пожарная безопасность | C20: 254000
A21: 04 00 | B21: Национальная экономика | C21: =C22+C23 -> 1395878
A22: 04 09 | B22: Дорожное хозяйство (дорожные фонды) | C22: =684515+652363 -> 1336878
A23: 04 12 | B23: Другие вопросы в области национальной экономики | C23: 59000
A24: 05 00 | B24: Жилищно-коммунальное хозяйство | C24: =C25+C26+C27+C28 -> 88044286
A25: 05 01 | B25: Жилищное хозяйство | C25: 78772789
A26: 05 02 | B26: Коммунальное хозяйство | C26: 7000
A27: 05 03 | B27: Благоустройство | C27: 8651827.7
A28: 05 05 | B28: Другие вопросы в области жилищно-коммунального хозяйства | C28: 612669.48
A29: 07 00 | B29: Образование | C29: =C30 -> 180000
A30: 07 07 | B30: Молодежная политика | C30: 180000
A31: 08 00 | B31: Культура, кинематография | C31: =C32 -> 356200
A32: 08 01 | B32: Культура | C32: 356200
A33: 10 00 | B33: Социальная политика | C33: =C34 -> 110000
A34: 10 01 | B34: Пенсионное обеспечение | C34: 110000
A35: 11 00 | B35: Физическая культура и спорт | C35: =C36 -> 100000
A36: 11 02 | B36: Массовый спорт | C36: 100000
A37: Всего | C37: =C10+C17+C19+C21+C24+C29+C31+C33+C35 -> 97969727

Sheet Прил.5 Расходы бюдж. 2025-2026
A2: Приложение 5
A3: к решению Муниципального Совета
A4: Каменниковского сельского поселения
A5: № 87 от 21.12.2023 г.
A6: (в редакции решения № 112 от 24.12.2024 г.)
A9: Расходы бюджета Каменниковского сельского поселения по разделам и подразделам функциональной классификации расходов бюджетов Российской Федерации на плановый период 2025 и 2026 годов
D10: руб.
A11: Р ПР | B11: Наименование | C11: 2025 год | D11: 2026 год
A12: 01 00 | B12: Общегосударственные вопросы | C12: =SUM(C13:C16) -> 5290653 | D12: =SUM(D13:D16) -> 4152150
A13: 01 02 | B13: Функционирование высшего должностного лица субъекта Российской Федерации и муниципального образования | C13: 1290000 | D13: 1290000
A14: 01 04 | B14: Функционирование Правительства Российской Федерации, высших исполнительных органов государственной власти субъектов Российской Федерации, местных администраций | C14: 3705653 | D14: 2842150
A15: 01 11 | B15: Резервные фонды | C15: 20000 | D15: 20000
A16: 01 13 | B16: Другие общегосударственные вопросы | C16: 275000 | D16: 0
A17: 02 00 | B17: Национальная оборона | C17: =C18 -> 390171 | D17: =D18 -> 425644
A18: 02 03 | B18: Мобилизационная и вневойсковая подготовка | C18: 390171 | D18: 425644
A19: 03 00 | B19: Национальная безопасность и правоохранительная деятельность | C19: =C20 -> 110000 | D19: =D20 -> 0
A20: 03 10 | B20: Защита населения и территории от чрезвычайных ситуаций природного и техногенного характера, пожарная безопасность | C20: 110000 | D20: 0
A21: 05 00 | B21: Жилищно-коммунальное хозяйство | C21: =C22+C23+C24 -> 825622 | D21: =D22+D23+D24 -> 0
A22: 05 01 | B22: Жилищное хозяйство | C22: 98750 | D22: 0
A23: 05 03 | B23: Благоустройство | C23: 350000 | D23: 0
A24: 05 05 | B24: Другие вопросы в области жилищно-коммунального хозяйства | C24: 376872 | D24: 0
A25: 10 00 | B25: Социальная политика | C25: =C26 -> 120000 | D25: =D26 -> 120000
A26: 10 01 | B26: Пенсионное обеспечение | C26: 120000 | D26: 120000
A27: Итого: | C27: =C12+C17+C19+C21+C25 -> 6736446 | D27: =D12+D17+D19+D21+D25 -> 4697794
A28: Условно утвержденные расходы: | C28: 162725 | D28: 224850
A29: Всего: | C29: =C27+C28 -> 6899171 | D29: =D27+D28 -> 4922644

Sheet Прил. 6 Расходы бюджета 2024
A2: Приложение 6
A3: к решению Муниципального Совета
A4: Каменниковского сельского поселения
A5: № 87 от 21.12.2023 г.
A6: (в редакции решения № 112 от 24.12.2024 г.)
A8: Распределение расходов бюджета Каменниковского сельского поселения по разделам, подразделам, целевым статьям, видам расходов функциональной классификации на 2024 год
F9: руб.
A10: Наименование | B10: Раздел | C10: ПР | D10: КЦСР | E10: КВР | F10: 2024 год
A11: Общегосударственные вопросы | B11: 01 | F11: =F12+F27+F33+F40+F49+F54 -> 7173606.6
A12: Функционирование высшего должностного лица субъекта Российской Федерации и муниципального образования | C12: 02 | F12: =F13+F22 -> 1334658.8
A13: Непрограмные расходы органов местного самоуправления | D13: 50 0 00 00000 | F13: =F14 -> 1304060
A14: Обеспечение функционирования органов местного самоуправления | D14: 50 1 00 00000 | F14: =F15+F19 -> 1304060
A15: Обеспечение функционирования главы муниципального образования | D15: 50 1 00 20540 | F15: =F16+F17+F18 -> 1265000
A16: Фонд оплаты труда государственных (муниципальных) органов | E16: 121 | F16: 970200
A17: Взнос по обязательному социальному страхованию на выплаты денежного содержания и иные выплаты работникам государственных (муниципальных) органов | E17: 129 | F17: 294533.78
A18: Уплата иных платежей | E18: 853 | F18: 266.22
A19: Поощрение муниципальных управленческих команд Рыбинского муниципального района | D19: 50 1 00 10550 | F19: =F20+F21 -> 39060
A20: Фонд оплаты труда государственных (муниципальных) органов | E20: 121 | F20: 30000
A21: Взнос по обязательному социальному страхованию на выплаты денежного содержания и иные выплаты работникам государственных (муниципальных) органов | E21: 129 | F21: 9060
A22: Муниципальная программа "Эффективная власть в Каменниковском сельском поселении Рыбинского муниципального района" | D22: 17 0 00 00000 | F22: =F23 -> 30598.76
A23: Развитие муниципальной службы в Каменниковском сельском поселении | D23: 17 1 00 00000 | F23: =F24 -> 30598.76
A24: Поощрение муниципальных управленческих команд Рыбинского района за достижение плановых значений показателей | D24: 17 1 00 10760 | F24: =F25+F26 -> 30598.76
A25: Фонд оплаты труда государственных (муниципальных) органов | E25: 121 | F25: 23501.35
A26: Взнос по обязательному социальному страхованию на выплаты денежного содержания и иные выплаты работникам государственных (муниципальных) органов | E26: 129 | F26: 7097.41
A27: Функционирование законодательных (представительных) органов государственной власти и представительных органов муниципальных образований | C27: 03 | F27: =F28 -> 20000
A28: Непрограмные расходы органов местного самоуправления | D28: 50 0 00 00000 | F28: =F29 -> 20000
A29: Обеспечение функционирования органов местного самоуправления | D29: 50 1 00 00000 | F29: =F30 -> 20000
A30: Обеспечение функционирования депутатов представительного органа муниципального образования | D30: 50 1 00 20490 | F30: =F31+F32 -> 20000
A31: Иные выплаты, за исключением фонда оплаты труда государственных (муниципальных) органов, лицам, привлекаемым согласно законодательству для выполнения отдельных полномочий | E31: 123 | F31: 19989.84
A32: Уплата иных платежей | E32: 853 | F32: 10.16
A33: Функционирование Правительства Российской Федерации, высших исполнительных органов государственной власти субъектов Российской Федерации, местных администраций | C33: 04 | F33: =F34 -> 4261687.5
A34: Непрограмные расходы органов местного самоуправления | D34: 50 0 00 00000 | F34: =F35 -> 4261687.5
A35: Обеспечение функционирования органов местного самоуправления | D35: 50 1 00 00000 | F35: =F36 -> 4261687.5
A36: Обеспечение функционирования центрального аппарата | D36: 50 1 00 20550 | F36: =F37+F38+F39 -> 4261687.5
A37: Фонд оплаты труда государственных (муниципальных) органов и взносы по обязательному социальному страхованию | E37: 121 | F37: 3275845.4
A38: Взнос по обязательному социальному страхованию на выплаты денежного содержания и иные выплаты работникам государственных (муниципальных) органов | E38: 129 | F38: 984803.08
A39: Уплата иных платежей | E39: 853 | F39: 1039.08
A40: Обеспечение деятельности финансовых, налоговых и таможенных органов и органов финансового (финансово-бюджетного) надзора | C40: 06 | F40: =F41 -> 176347
A41: Непрограмные расходы органов местного самоуправления | D41: 50 0 00 00000 | F41: =F42 -> 176347
A42: Обеспечение функционирования органов местного самоуправления | D42: 50 1 00 00000 | F42: =F43+F45+F47 -> 176347
...

Sheet Прил. 7 Расходы бюдж.2025-2026
A2: Приложение 7
A3: к решению Муниципального Совета
A4: Каменниковского сельского поселения
A5: № 87 от 21.12.2023 г.
A6: (в редакции решения № 112 от 24.12.2024 г.)
A9: Распределение расходов бюджета Каменниковского сельского поселения по разделам, подразделам, целевым статьям, видам расходов функциональной классификации на плановый период 2025 и 2026 годов
G10: руб.
A11: Наименование | B11: Раздел | C11: ПР | D11: КЦСР | E11: КВР | F11: 2025 год | G11: 2026 год
A12: Общегосударственные вопросы | B12: 01 | F12: =F15+F19+F23+F27 -> 5290653 | G12: =G15+G19+G23+G27 -> 4152150
A13: Непрограмные расходы органов местного самоуправления | D13: 50 0 00 00000 | F13: =F14+F24 -> 5015653 | G13: =G14+G24 -> 4152150
A14: Обеспечение функционирования органов местного самоуправления | D14: 50 1 00 00000 | F14: =F16+F20 -> 4995653 | G14: =G16+G20 -> 4132150
A15: Функционирование высшего должностного лица субъекта Российской Федерации и муниципального образования | C15: 02 | F15: =F16 -> 1290000 | G15: =G16 -> 1290000
A16: Обеспечение функционирования главы муниципального образования | D16: 50 1 00 20540 | F16: =F17+F18 -> 1290000 | G16: =G17+G18 -> 1290000
A17: Фонд оплаты труда государственных (муниципальных) органов | E17: 121 | F17: 990000 | G17: 990000
A18: Взнос по обязательному социальному страхованию на выплаты денежного содержания и иные выплаты работникам государственных (муниципальных) органов | E18: 129 | F18: 300000 | G18: 300000
A19: Функционирование Правительства Российской Федерации, высших исполнительных органов государственной власти субъектов Российской Федерации, местных администраций | C19: 04 | F19: =F20 -> 3705653 | G19: =G20 -> 2842150
A20: Обеспечение функционирования центрального аппарата | D20: 50 1 00 20550 | F20: =F21+F22 -> 3705653 | G20: =G21+G22 -> 2842150
A21: Фонд оплаты труда государственных (муниципальных) органов и взносы по обязательному социальному страхованию | E21: 121 | F21: 2829653 | G21: 2182911
A22: Взнос по обязательному социальному страхованию на выплаты денежного содержания и иные выплаты работникам государственных (муниципальных) органов | E22: 129 | F22: 876000 | G22: 659239
A23: Резервные фонды | C23: 11 | F23: =F25 -> 20000 | G23: =G25 -> 20000
A24: Непрограмные расходы органов местного самоуправления не предусмотренные иными целевыми статьями расходов бюджетов поселений, по соответствующим направлениям расходов | D24: 50 2 00 00000 | F24: =F25 -> 20000 | G24: =G25 -> 20000
A25: Резервный фонд местной администрации | D25: 50 2 00 20540 | F25: =F26 -> 20000 | G25: =G26 -> 20000
A26: Резервные средства | E26: 870 | F26: 20000 | G26: 20000
A27: Другие общегосударственные вопросы | C27: 13 | F27: =F28+F33 -> 275000 | G27: =G28+G33 -> 0
A28: Муниципальная программа "Эффективная власть в Каменниковском сельском поселении Рыбинского муниципального района" | D28: 17 0 00 00000 | F28: =F29 -> 215000 | G28: =G29 -> 0
A29: Развитие муниципальной службы в Каменниковском сельском поселении | D29: 17 1 00 00000 | F29: =F30 -> 215000 | G29: =G30 -> 0
A30: Развитие материально-технической базы | D30: 17 1 00 20060 | F30: =F31+F32 -> 215000 | G30: =G31+G32 -> 0
A31: Закупка товаров, работ, услуг в сфере информационно-коммуникационных технологий | E31: 242 | F31: 15000 | G31: 0
A32: Прочая закупка товаров, работ и услуг | E32: 244 | F32: 200000 | G32: 0
A33: Муниципальная программа "Управление муниципальным имуществом Каменниковского сельского поселения Рыбинского муниципального района" | D33: 18 0 00 00000 | F33: =F34 -> 60000 | G33: =G34 -> 0
A34: Мероприятия по управлению и распоряжению имуществом Каменниковского сельского поселения | D34: 18 1 00 00000 | F34: =F35 -> 60000 | G34: =G35 -> 0
A35: Мероприятия по управлению и распоряжению имуществом, находящимся в муниципальной собственности поселения | D35: 18 1 00 20430 | F35: =F36 -> 60000 | G35: =G36 -> 0
A36: Прочая закупка товаров, работ и услуг | E36: 244 | F36: 60000 | G36: 0
A37: Национальная оборона | B37: 02 | F37: =F38 -> 390171 | G37: =G38 -> 425644
A38: Мобилизационная и вневойсковая подготовка | C38: 03 | F38: =F42+F43 -> 390171 | G38: =G42+G43 -> 425644
A39: Непрограмные расходы органов местного самоуправления | D39: 50 0 00 00000 | F39: =F40 -> 390171 | G39: =G40 -> 425644
A40: Обеспечение функционирования органов местного самоуправления | D40: 50 1 00 00000 | F40: =F41 -> 390171 | G40: =G41 -> 425644
A41: Исполнение переданных полномочий РФ на осуществление первичного воинского учета на территориях, где отсутствуют военные комиссариаты | D41: 50 1 00 51180 | F41: =F42+F43 -> 390171 | G41: =G42+G43 -> 425644
A42: Фонд оплаты труда государственных (муниципальных) органов и взносы по обязательному социальному страхованию | E42: 121 | F42: 299670.51 | G42: 326915.51
A43: Взнос по обязательному социальному страхованию на выплаты денежного содержания и иные выплаты работникам государственных (муниципальных) органов | E43: 129 | F43: 90500.49 | G43: 98728.49
...

Sheet Прил.8 Перечень гл. расп.
A2: Приложение 8
A3: к решению Муниципального Совета
A4: Каменниковского сельского поселения
A5: № 87 от 21.12.2023 г.
B6: (в редакции решения № 112 от 24.12.2024 г.)
A8: ПЕРЕЧЕНЬ
A9: Главных распорядителей бюджетных средств бюджета Каменниковского сельского поселения на 2024 год и на плановый период 2025 и 2026 годов
A11: Наименование | B11: Код ведомственной классификации
A12: Администрация Каменниковского сельского поселения | B12: 240
A13: Муниципальный Совет Каменниковского сельского поселения | B13: 241

Sheet Прил.9 Ведомственная
A2: Приложение 9
A3: к решению Муниципального Совета
A4: Каменниковского сельского поселения
A5: № 87 от 21.12.2023 г.
A6: (в редакции решения № 112 от 24.12.2024 г.)
A8: Ведомственная структура расходов бюджета Каменниковского сельского поселения на 2024 год и на плановый период 2025 и 2026 годов
E9: руб.
A10: Код ГРБС | B10: Наименование главного распорядителя бюджетных средств | C10: 2024 год | D10: 2025 год | E10: 2026 год
A11: 240 | B11: Администрация Каменниковского сельского поселения | C11: 97949727 | D11: 6899171 | E11: 4922644
A12: 241 | B12: Муниципальный Совет Каменниковского сельского поселения | C12: 20000 | D12: 0 | E12: 0
A13: Итого: | C13: =C11+C12 -> 97969727 | D13: =D11+D12 -> 6899171 | E13: =E11+E12 -> 4922644

Sheet Прил.10 Источники 2024
A2: Приложение 10
A3: к решению Муниципального Совета
A4: Каменниковского сельского поселения
A5: № 87 от 21.12.2023 г.
A6: (в редакции решения № 112 от 24.12.2024 г.)
A8: Источники внутреннего финансирования дефицита бюджета Каменниковского сельского поселения на 2024 год
A10: Наименование | B10: Код бюджетной классификации | C10: 2024 год | D10: 2022 год
A11: Изменение остатков средств на счетах по учету средств бюджета | B11: 240 01 05 00 00 00 0000 000 | C11: =C14 -> 131590.99 | D11: =D12-D13 -> #REF!
A12: Увеличение прочих остатков денежных средств бюджетов сельских поселений | B12: 240 01 05 02 01 10 0000 510 | C12: ='Прил.2 Доходы бюджета 2024'!C43 -> 97838136 | D12: ='Прил.2 Доходы бюджета 2024'!#REF! -> #REF!
A13: Уменьшение прочих остатков денежных средств бюджетов сельских поселений | B13: 240 01 05 02 01 10 0000 610 | C13: ='Прил. 6 Расходы бюджета 2024'!F172 -> 97969727 | D13: ='Прил.4 Расходы бюджета 2024'!#REF! -> #REF!
A14: ИТОГО источников внутреннего финансирования | C14: =-C12+C13 -> 131590.99 | D14: =D11 -> #REF!

Sheet Прил.11 Источники 2025-2026
A2: Приложение 11
A3: к решению Муниципального Совета
A4: Каменниковского сельского поселения
A5: № 87 от 21.12.2023 г.
A6: (в редакции решения № 112 от 24.12.2024 г.)
A8: Источники внутреннего финансирования дефицита бюджета Каменниковского сельского поселения на плановый период 2025 и 2026 годов
E10: руб.
A11: Наименование | B11: Код бюджетной классификации | C11: 2022 год | D11: 2025 год | E11: 2026 год
A12: Изменение остатков средств на счетах по учету средств бюджета | B12: 240 01 05 00 00 00 0000 000 | C12: =C13-C14 -> #REF! | D12: =D13-D14 -> 0 | E12: =E13-E14 -> 0
A13: Увеличение прочих остатков денежных средств бюджетов сельских поселений | B13: 240 01 05 02 01 10 0000 510 | C13: ='Прил.2 Доходы бюджета 2024'!#REF! -> #REF! | D13: ='Прил.3 Доходы бюджета 2025-2026'!C28 -> 6899171 | E13: ='Прил.3 Доходы бюджета 2025-2026'!D28 -> 4922644
A14: Уменьшение прочих остатков денежных средств бюджетов сельских поселений | B14: 240 01 05 02 01 10 0000 610 | C14: ='Прил.4 Расходы бюджета 2024'!#REF! -> #REF! | D14: ='Прил. 7 Расходы бюдж.2025-2026'!F77 -> 6899171 | E14: ='Прил. 7 Расходы бюдж.2025-2026'!G77 -> 4922644
A15: ИТОГО источников внутреннего финансирования | C15: =C12 -> #REF! | D15: =D12 -> 0 | E15: =E12 -> 0

Sheet Приложение 12 МБТ из субъектов
A2: Приложение 12
A3: к решению Муниципального Совета
A4: Каменниковского сельского поселения
A5: № 87 от 21.12.2023 г.
C6: (в редакции решения № 112 от 24.12.2024 г.)
A8: Объем межбюджетных транфертов, получаемых из других бюджетов бюджетной системы Российской Федерации на 2024 год и на плановый период 2025 и 2026 годов
E10: руб.
A11: Код бюджетной классификации РФ | B11: Наименование доходов | C11: 2024 год | D11: 2025 год | E11: 2026 год
A13: 240 2 02 15001 10 0000 150 | B13: Дотации бюджетам сельских поселений на выравнивание бюджетной обеспеченности из бюджета субъекта Российской Федерации | C13: 7602000 | D13: 2052000 | E13: 0
A14: 240 2 02 35118 10 0000 150 | B14: Субвенции бюджетам сельских поселений на осуществление первичного воинского учета на территориях, где отсутствуют военные комиссариаты | C14: 355756 | D14: 390171 | E14: 425644
A15: 240 2 02 20299 10 0000 150 | B15: Субсидии бюджетам сельских поселений на обеспечение мероприятий по переселению граждан из аварийного жилищного фонда, в том числе переселению граждан из аварийного жилищного фонда с учетом необходимости развития малоэтажного жилищного строительства, за счет средств, поступивших от публично-правовой компании "Фонд развития территорий" | C15: 74732198 | D15: 0 | E15: 0
A16: 240 2 02 20302 10 0000 150 | B16: Субсидии бюджетам сельских поселений на обеспечение мероприятий по переселению граждан из аварийного жилищного фонда, в том числе переселению граждан из аварийного жилищного фонда с учетом необходимости развития малоэтажного жилищного строительства, за счет средств бюджетов | C16: 2964000 | D16: 0 | E16: 0
A17: 240 2 02 40014 10 0000 150 | B17: Межбюджетные трансферты, передаваемые бюджетам сельских поселений из бюджетов муниципальных районов на осуществление части полномочий по решению вопросов местного значения в соответствии с заключенными соглашениями | C17: 1336878 | D17: 0 | E17: 0
A18: 240 2 02 49999 10 0000 150 | B18: Прочие межбюджетные трансферты, передаваемые бюджетам сельских поселений | C18: 890000 | D18: 0 | E18: 0
A19: 240 2 02 49999 10 4010 150 | B19: Прочие межбюджетные трансферты, передаваемые бюджетам сельских поселений (Межбюджетные трансферты на благоустройство дворовых территорий и обустройство территорий для выгула животных) | C19: 2187500 | D19: 0 | E19: 0
A20: 240 2 02 29999 10 2032 150 | B20: Прочие субсидии бюджетам сельским поселений (Субсидия на реализацию мероприятий инициативного бюджетирования на территории Ярославской области (поддержка местных инициатив)) | C20: 950000 | D20: 0 | E20: 0
A21: 240 2 02 19999 10 1004 150 | B21: Прочие дотации бюджетам сельских поселений (Дотация на реализацию мероприятий, предусмотренных нормативными правовыми актами органов государственной власти Ярославской области) | C21: 21300 | D21: 0 | E21: 0
A22: 240 2 02 49999 10 4016 150 | B22: Прочие межбюджетные трансферты, передаваемые бюджетам сельских поселений (Межбюджетные трансферты на поощрение муниципальных управленческих команд за достижение показателей деятельности органов исполнительной власти) | C22: 69658.76 | D22: 0 | E22: 0
A23: Итого: | C23: =SUM(C13:C22) -> 91109291 | D23: =SUM(D13:D20) -> 2442171 | E23: =SUM(E13:E20) -> 425644

Sheet Приложение 13 МБТ
A2: Приложение 13
A3: к решению Муниципального Совета
A4: Каменниковского сельского поселения
A5: № 87 от 21.12.2023 г.
D6: (в редакции решения № 112 от 24.12.2024 г.)
B8: Межбюджетные трансферты бюджету Рыбинского муниципального района Ярославской области муниципального района на 2024 год и на плановый период 2025 и 2026 годов
B10: Код ГРБС | C10: Наименование | D10: 2024 год | E10: 2025 год | F10: 2026 год
B11: Межбюджетные трансферты, передаваемые бюджету муниципального района из бюджета поселения на осуществление части полномочий по решению вопросов местного значения в соответствии с заключенными соглашениями | D11: =D12+D13+D14+D15+D17 -> 2667712.5 | E11: =E15+E14+E13+E17 -> 0 | F11: =F15+F14+F13+F17 -> 0
B12: 120 | C12: Администрация Рыбинского муниципального района | D12: 109338.48 | E12: 0 | F12: 0
B13: 127 | C13: Управление по культуре, молодежи и спорту администрации РМР | D13: 180000 | E13: ='[1]Прил. 6 Расходы бюджета'!H115 -> 0 | F13: ='[1]Прил. 6 Расходы бюджета'!I115 -> 0
B14: 130 | C14: Управление экономики и финансов администрации РМР | D14: 136347 | E14: ='[1]Прил. 6 Расходы бюджета'!H28 -> 0 | F14: ='[1]Прил. 6 Расходы бюджета'!I28 -> 0
B15: 140 | C15: Управление ЖКХ, транспорта и связи администрации РМР | D15: =2262027-60000 -> 2202027 | E15: ='[1]Прил. 6 Расходы бюджета'!H100 -> 0 | F15: ='[1]Прил. 6 Расходы бюджета'!I100 -> 0
C16: городской округ г.Переславль-ЗалесскийРостовский муниципальный район Угличский муниципальный район Тутаевский муниципальный район Большесельский муниципальный район Борисоглебский муниципальный районБрейтовский муниципальный районГаврилов-Ямский муниципальный районДаниловский муниципальный районЛюбимский муниципальный районМышкинский муниципальный районНекоузский муниципальный районНекрасовский муниципальный районПервомайский муниципальный районПошехонский муниципальный районРыбинский муниципальный район Ростовский муниципальный район Угличский муниципальный район Тутаевский муниципальный район Большесельский муниципальный район Борисоглебский муниципальный районБрейтовский муниципальный районГаврилов-Ямский муниципальный районДаниловский муниципальный районЛюбимский муниципальный районМышкинский муниципальный районНекоузский муниципальный районНекрасовский муниципальный районПервомайский муниципальный районПереславский муниципальный районПошехонский муниципальный районНеуказанный территориальный признак | D16: 709750000 | E16: 709750000 | F16: 709750000
B17: 195 | C17: Контрольно счетная палата РМР | D17: 40000 | E17: ='[1]Прил. 6 Расходы бюджета'!H30 -> 0 | F17: ='[1]Прил. 6 Расходы бюджета'!I30 -> 0

Sheet Лист1
